Workbook
Name まるばつ: [1]リスト・集計用!$A$2:$A$3
Name 事業分類: [2]事業分類・区分!$B$2:$H$2

Sheet 基本データ入力
A1: 〇介護事業所等及び介護施設等へのサービス継続支援事業補助金実績報告用ファイル
I8: No.9 | J8: No.12 | K8: No.20
I9: 男 | J9: 通所介護事業所（通常規模型） | K9: 法人住所
C10: No. | D10: 入力項目 | E10: 入力欄 | F10: 入力例 ・ 備考欄 | I10: 女 | J10: 通所介護事業所（大規模型（Ⅰ）） | K10: 事業所住所
B11: 担 当 者 情 報 | C11: 1 | D11: 担当者氏名（フルネーム） | F11: 宮崎 太郎 | J11: 通所介護事業所（大規模型（Ⅱ））
C12: =C11+1 -> 2 | D12: 電話番号 | F12: 0985-26-7058 | J12: 地域密着型通所介護事業所(療養通所介護事業所を含む)
C13: =C12+1 -> 3 | D13: メールアドレス | F13: shisetsu@pref.miyazaki.lg.jp | J13: 認知症対応型通所介護事業所
B14: 法 人 情 報 | C14: =C13+1 -> 4 | D14: 法人ﾌﾘｶﾞﾅ | F14: ｼｬｶｲﾌｸｼﾎｳｼﾞﾝ○○ｶｲ | J14: 通所リハビリテーション事業所（通常規模型）
C15: =C14+1 -> 5 | D15: 法人名 | F15: 社会福祉法人○○会 | J15: 通所リハビリテーション事業所（大規模型（Ⅰ））
C16: =C15+1 -> 6 | D16: 代表者ﾌﾘｶﾞﾅ | F16: ﾘｼﾞﾁｮｳ ﾐﾔｻﾞｷ ﾊﾅｺ | J16: 通所リハビリテーション事業所（大規模型（Ⅱ））
C17: =C16+1 -> 7 | D17: 代表者（役職・氏名） | F17: 理事長 宮崎 花子 | J17: 短期入所生活介護事業所
C18: =C17+1 -> 8 | D18: 代表者の生年月日 | F18: 昭和○○年○○月○○日 | J18: 短期入所療養介護事業所
C19: =C18+1 -> 9 | D19: 代表者の性別 | F19: プルダウンリスト（※）から選択 | J19: 訪問介護事業所
C20: =C19+1 -> 10 | D20: 法人の郵便番号 | F20: 880-8501 | J20: 訪問入浴介護事業所
C21: =C20+1 -> 11 | D21: 法人の住所 | F21: 宮崎県宮崎市橘通東2丁目10番1号 | J21: 訪問看護事業所
B22: 申請情報 | C22: =C21+1 -> 12 | D22: 交付決定日 | F22: 交付決定通知文書に記載の年月日を和暦で記入。
C23: =C22+1 -> 13 | D23: 交付決定文書番号 | F23: 交付決定通知文書に記載の文書番号を記入
C24: =C23+1 -> 14 | D24: 通知書の送付先 | F24: プルダウンリスト（※）から選択 | J24: 訪問リハビリテーション事業所
C25: =C24+1 -> 15 | D25: 申請年月日 | F25: 書類の申請年月日を入力してください。 | J25: 定期巡回・随時対応型訪問介護看護事業所
J26: 夜間対応型訪問介護事業所
C27: ※エクセルのバージョンが古い場合は、プルダウンリストが表示されないことがありますので、 その際は、右側のリストから、該当する項目を直接選択して、入力欄に貼り付けてください。 | J27: 居宅介護支援事業所
J29: 福祉用具貸与事業所
J30: 居宅療養管理指導事業所
J31: 小規模多機能型居宅介護事業所
J33: 看護小規模多機能型居宅介護事業所
J34: 介護老人福祉施設
J35: 介護老人保健施設
J36: 介護医療院
J37: 介護療養型医療施設
J38: 認知症対応型共同生活介護事業所
J39: 養護老人ホーム（定員30人以上）
J40: 養護老人ホーム（定員29人以下）
J41: 軽費老人ホーム（定員30人以上）
... J46: サービス付き高齢者向け住宅（定員29人以下）

Sheet 実績報告書
AD4: =基本データ入力!E25 -> 0
A6: 宮崎県知事 | I6: 殿
V8: （住 所） | W8: =基本データ入力!E21 -> 0
V9: （法 人 名） | W9: =基本データ入力!E15 -> 0
V10: （代表者氏名） | W10: =基本データ入力!E17 -> 0
A12: 補 助 金 等 実 績 報 告 書
A14: =" "&TEXT(基本データ入力!E22,"ggge年m月d日")&"付け"&TEXT(基本データ入力!E23,"@")&"で交付決定のあった介護事業所等及び介護施設等に対するサービス継続支援事業費補助金交付要綱に基づく介護事業所等及び介護施設等に対するサービス継続支援事業費補助金については、補助金等の交付に関する規則第１４条の規定により、その実績を関係書類を添えて報告します。" -> 明治33年1月0日付け0で交付決定のあった介護事業所等及び介護施設等に対するサービス継続支援事業費補助金交付要綱に基づく介護事業所等及び介護施設等に対するサービス継続支援事業費補助金については、補助金等の交付に関する規則第１４条の規定により、その実績を関係書類を添えて報告します。
B19: （添付書類）
B20: １ 事業実績書（別記様式第１号）
B21: ２ 収支決算書（別記様式第２号）
B22: ３ 事業所・施設別実績額一覧（別記様式第３号）
B23: ４ 領収書等の補助対象経費が確認できる資料
B24: ５ その他知事が必要と認める書類
T33: 【申請内容に関する連絡先】
U35: 申請法人住所 | AC35: 〒 | AD35: =基本データ入力!E20 -> 0
AC36: =基本データ入力!E21 -> 0
U37: 担当者氏名 | AC37: =基本データ入力!E11 -> 0
U38: 連絡先 | Y38: 電話番号 | AC38: =基本データ入力!E12 -> 0
Y39: e-mail | AC39: =基本データ入力!E13 -> 0

Sheet 実績額一覧
A1: 様式第３号（第５条、第１１条関係）
A2: 事業所・施設別申請（実績）額一覧
A3: No. | B3: 事業所・施設名 | C3: 介護保険 事業所番号 | D3: サービス種別 | E3: 申請（実績）額（千円） | H3: 審査 結果
E4: 介護事業所等に対するサービス継続支援事業 | F4: 介護施設等に対するサービス継続支援事業 | G4: 合計
A5: =ROW()-4 -> 1 | B5: =IFERROR(INDIRECT("事業実績書"&$A5&"！$t$7"),"") -> 0 | C5: =IFERROR(INDIRECT("事業実績書"&$A5&"！$h$7"),"") -> 0 | D5: =IFERROR(INDIRECT("事業実績書"&$A5&"！$l$10"),"") -> 0 | E5: =IFERROR(INDIRECT("事業実績書"&$A5&"！$ai$18"),"") -> 0 | F5: =IFERROR(INDIRECT("事業実績書"&$A5&"！$ai$38"),"") | G5: =SUM(E5,F5) -> 0 | K5: =IF(_xlfn.SHEETS()-5=COUNTIF(G5:G22,">0"),"○","！（本表の事業所数と個票の枚数が一致しません）") -> ！（本表の事業所数と個票の枚数が一致しません）
A6: =ROW()-4 -> 2 | B6: =IFERROR(INDIRECT("事業実績書"&$A6&"！$t$7"),"") -> 0 | C6: =IFERROR(INDIRECT("事業実績書"&$A6&"！$h$7"),"") -> 0 | D6: =IFERROR(INDIRECT("事業実績書"&$A6&"！$l$10"),"") -> 0 | E6: =IFERROR(INDIRECT("事業実績書"&$A6&"！$ai$18"),"") -> 0 | F6: =IFERROR(INDIRECT("事業実績書"&$A6&"！$ai$38"),"") | G6: =SUM(E6,F6) -> 0 | K6: ※この欄に「○」が表示されない場合、本表の事業所数と個票の枚数が一致していません。
A7: =ROW()-4 -> 3 | B7: =IFERROR(INDIRECT("事業実績書"&$A7&"！$t$7"),"") | C7: =IFERROR(INDIRECT("事業実績書"&$A7&"！$h$7"),"") | D7: =IFERROR(INDIRECT("事業実績書"&$A7&"！$l$10"),"") | E7: =IFERROR(INDIRECT("事業実績書"&$A7&"！$ai$18"),"") | F7: =IFERROR(INDIRECT("事業実績書"&$A7&"！$ai$38"),"") | G7: =SUM(E7,F7) -> 0 | K7: 個票のシート名に誤りがないか確認して下さい。
A8: =ROW()-4 -> 4 | B8: =IFERROR(INDIRECT("事業実績書"&$A8&"！$t$7"),"") | C8: =IFERROR(INDIRECT("事業実績書"&$A8&"！$h$7"),"") | D8: =IFERROR(INDIRECT("事業実績書"&$A8&"！$l$10"),"") | E8: =IFERROR(INDIRECT("事業実績書"&$A8&"！$ai$18"),"") | F8: =IFERROR(INDIRECT("事業実績書"&$A8&"！$ai$38"),"") | G8: =SUM(E8,F8) -> 0
A9: =ROW()-4 -> 5 | B9: =IFERROR(INDIRECT("事業実績書"&$A9&"！$t$7"),"") | C9: =IFERROR(INDIRECT("事業実績書"&$A9&"！$h$7"),"") | D9: =IFERROR(INDIRECT("事業実績書"&$A9&"！$l$10"),"") | E9: =IFERROR(INDIRECT("事業実績書"&$A9&"！$ai$18"),"") | F9: =IFERROR(INDIRECT("事業実績書"&$A9&"！$ai$38"),"") | G9: =SUM(E9,F9) -> 0
A10: =ROW()-4 -> 6 | B10: =IFERROR(INDIRECT("事業実績書"&$A10&"！$t$7"),"") | C10: =IFERROR(INDIRECT("事業実績書"&$A10&"！$h$7"),"") | D10: =IFERROR(INDIRECT("事業実績書"&$A10&"！$l$10"),"") | E10: =IFERROR(INDIRECT("事業実績書"&$A10&"！$ai$18"),"") | F10: =IFERROR(INDIRECT("事業実績書"&$A10&"！$ai$38"),"") | G10: =SUM(E10,F10) -> 0
A11: =ROW()-4 -> 7 | B11: =IFERROR(INDIRECT("事業実績書"&$A11&"！$t$7"),"") | C11: =IFERROR(INDIRECT("事業実績書"&$A11&"！$h$7"),"") | D11: =IFERROR(INDIRECT("事業実績書"&$A11&"！$l$10"),"") | E11: =IFERROR(INDIRECT("事業実績書"&$A11&"！$ai$18"),"") | F11: =IFERROR(INDIRECT("事業実績書"&$A11&"！$ai$38"),"") | G11: =SUM(E11,F11) -> 0
A12: =ROW()-4 -> 8 | B12: =IFERROR(INDIRECT("事業実績書"&$A12&"！$t$7"),"") | C12: =IFERROR(INDIRECT("事業実績書"&$A12&"！$h$7"),"") | D12: =IFERROR(INDIRECT("事業実績書"&$A12&"！$l$10"),"") | E12: =IFERROR(INDIRECT("事業実績書"&$A12&"！$ai$18"),"") | F12: =IFERROR(INDIRECT("事業実績書"&$A12&"！$ai$38"),"") | G12: =SUM(E12,F12) -> 0
A13: =ROW()-4 -> 9 | B13: =IFERROR(INDIRECT("事業実績書"&$A13&"！$t$7"),"") | C13: =IFERROR(INDIRECT("事業実績書"&$A13&"！$h$7"),"") | D13: =IFERROR(INDIRECT("事業実績書"&$A13&"！$l$10"),"") | E13: =IFERROR(INDIRECT("事業実績書"&$A13&"！$ai$18"),"") | F13: =IFERROR(INDIRECT("事業実績書"&$A13&"！$ai$38"),"") | G13: =SUM(E13,F13) -> 0
A14: =ROW()-4 -> 10 | B14: =IFERROR(INDIRECT("事業実績書"&$A14&"！$t$7"),"") | C14: =IFERROR(INDIRECT("事業実績書"&$A14&"！$h$7"),"") | D14: =IFERROR(INDIRECT("事業実績書"&$A14&"！$l$10"),"") | E14: =IFERROR(INDIRECT("事業実績書"&$A14&"！$ai$18"),"") | F14: =IFERROR(INDIRECT("事業実績書"&$A14&"！$ai$38"),"") | G14: =SUM(E14,F14) -> 0
A15: =ROW()-4 -> 11 | B15: =IFERROR(INDIRECT("事業実績書"&$A15&"！$t$7"),"") | C15: =IFERROR(INDIRECT("事業実績書"&$A15&"！$h$7"),"") | D15: =IFERROR(INDIRECT("事業実績書"&$A15&"！$l$10"),"") | E15: =IFERROR(INDIRECT("事業実績書"&$A15&"！$ai$18"),"") | F15: =IFERROR(INDIRECT("事業実績書"&$A15&"！$ai$38"),"") | G15: =SUM(E15,F15) -> 0
A16: =ROW()-4 -> 12 | B16: =IFERROR(INDIRECT("事業実績書"&$A16&"！$t$7"),"") | C16: =IFERROR(INDIRECT("事業実績書"&$A16&"！$h$7"),"") | D16: =IFERROR(INDIRECT("事業実績書"&$A16&"！$l$10"),"") | E16: =IFERROR(INDIRECT("事業実績書"&$A16&"！$ai$18"),"") | F16: =IFERROR(INDIRECT("事業実績書"&$A16&"！$ai$38"),"") | G16: =SUM(E16,F16) -> 0
A17: =ROW()-4 -> 13 | B17: =IFERROR(INDIRECT("事業実績書"&$A17&"！$t$7"),"") | C17: =IFERROR(INDIRECT("事業実績書"&$A17&"！$h$7"),"") | D17: =IFERROR(INDIRECT("事業実績書"&$A17&"！$l$10"),"") | E17: =IFERROR(INDIRECT("事業実績書"&$A17&"！$ai$18"),"") | F17: =IFERROR(INDIRECT("事業実績書"&$A17&"！$ai$38"),"") | G17: =SUM(E17,F17) -> 0
A18: =ROW()-4 -> 14 | B18: =IFERROR(INDIRECT("事業実績書"&$A18&"！$t$7"),"") | C18: =IFERROR(INDIRECT("事業実績書"&$A18&"！$h$7"),"") | D18: =IFERROR(INDIRECT("事業実績書"&$A18&"！$l$10"),"") | E18: =IFERROR(INDIRECT("事業実績書"&$A18&"！$ai$18"),"") | F18: =IFERROR(INDIRECT("事業実績書"&$A18&"！$ai$38"),"") | G18: =SUM(E18,F18) -> 0
A19: =ROW()-4 -> 15 | B19: =IFERROR(INDIRECT("事業実績書"&$A19&"！$t$7"),"") | C19: =IFERROR(INDIRECT("事業実績書"&$A19&"！$h$7"),"") | D19: =IFERROR(INDIRECT("事業実績書"&$A19&"！$l$10"),"") | E19: =IFERROR(INDIRECT("事業実績書"&$A19&"！$ai$18"),"") | F19: =IFERROR(INDIRECT("事業実績書"&$A19&"！$ai$38"),"") | G19: =SUM(E19,F19) -> 0
A20: 合計 | E20: =SUM(E5:E19) -> 0 | F20: =SUM(F5:F19) -> 0 | G20: =SUM(G5:G19) -> 0
A21: （注）行が不足する場合には、「本申請書の使い方」に従って、行を追加すること。列の挿入は絶対に行わないこと。

Sheet 事業実績書1
A1: 別記
A2: 様式第１号（第５条、第１１条関係） | CS2: □
A3: 介護事業所等及び介護施設等に対するサービス継続支援事業に関する事業計画（実績）書（事業所単位） | CS3: ☑
A5: 施設概要
A7: 介護保険事業所番号 | O7: 事業所名称
A8: 所在地 | D8: 都道府県名 | H8: 住所 | T8: 連絡先 | W8: 電話番号 | AG8: 担当部署名
A10: 提供サービス | AG10: 定員 | AL10: 人
A11: 事業区分 | I11: □ | J11: 介護事業所等に対するサービス継続支援事業 | Y11: □ | Z11: 介護施設等に対するサービス継続支援事業
A15: 支出（予定）額
A17: １．介護事業所等に対するサービス継続支援事業 | AD17: 補助上限額 (交付決定額） | AI17: 申請額
AG18: 千円 | AI18: =MIN(AD18,ROUNDDOWN((H26+H35)/1000,0)) -> 0 | AL18: 千円
A19: 【介護サービスを円滑に継続するための対応】
A20: 科目 | H20: 所要額（円） | M20: 用途・品目・数量等
A21: ア 移動に伴い必要となる経費 | H21: =SUMIFS(明細!J9:X9,明細!$J$8:$X$8,$T$7,明細!$J$7:$X$7,$L$10) -> 0
A22: イ 猛暑対策用品や雪害対策用品の購入等経費 | H22: =SUMIFS(明細!J10:X10,明細!$J$8:$X$8,$T$7,明細!$J$7:$X$7,$L$10) -> 0
A23: ウ 入居者・利用者の生活環境改善、職員の負担軽減・勤務環境改善に必要となる経費 | H23: =SUMIFS(明細!J11:X11,明細!$J$8:$X$8,$T$7,明細!$J$7:$X$7,$L$10) -> 0
A24: エ 居室や浴室等における温度管理、湿度管理に必要な設備・物品等の購入等経費 | H24: =SUMIFS(明細!J12:X12,明細!$J$8:$X$8,$T$7,明細!$J$7:$X$7,$L$10) -> 0
A25: オ その他困難な事態下に介護サービスを継続するために必要と認められる経費 | H25: =SUMIFS(明細!J13:X13,明細!$J$8:$X$8,$T$7,明細!$J$7:$X$7,$L$10) -> 0
A26: 合計 | H26: =SUM(H21:L25) -> 0
A28: 【災害備蓄等への対応】
A29: 科目 | H29: 所要額（円） | M29: 用途・品目・数量等
A30: ア 飲料水、食料品等の備蓄物資の購入等経費 | H30: =SUMIFS(明細!J14:X14,明細!$J$8:$X$8,$T$7,明細!$J$7:$X$7,$L$10) -> 0
A31: イ ポータブル発電機、ポータブル電源・蓄電池等の購入経費 | H31: =SUMIFS(明細!J15:X15,明細!$J$8:$X$8,$T$7,明細!$J$7:$X$7,$L$10) -> 0
A32: ウ 衛生用品、医療用品等の購入等経費 | H32: =SUMIFS(明細!J16:X16,明細!$J$8:$X$8,$T$7,明細!$J$7:$X$7,$L$10) -> 0
A33: エ 簡易浄水器、冷房機、暖房機、簡易トイレ、清潔保持のための用具等の購入等経費 | H33: =SUMIFS(明細!J17:X17,明細!$J$8:$X$8,$T$7,明細!$J$7:$X$7,$L$10) -> 0
A34: オ その他災害への備えとして必要と認められる経費 | H34: =SUMIFS(明細!J18:X18,明細!$J$8:$X$8,$T$7,明細!$J$7:$X$7,$L$10) -> 0
A35: 合計 | H35: =SUM(H30:L34) -> 0
A37: ２．介護施設等に対するサービス継続支援事業 | AD37: 補助上限額 （交付決定額） | AI37: 申請額
AG38: 千円 | AI38: =IF(AD38="","",MIN(AD38,ROUNDDOWN(H46/1000,0))) | AL38: 千円
A40: 科目 | H40: 所要額（円） | M40: 用途・品目・数量等
A41: 食材料費等 | H41: =SUMIFS(明細!J19:X19,明細!$J$8:$X$8,$T$7,明細!$J$7:$X$7,$L$10) -> 0
A46: 合計 | H46: =SUM(H41:L45) -> 0
A48: （注）申請額は、補助上限額と所要額を比較していずれか低い方の額が入力される。

Sheet 事業実績書2
A1: 別記
A2: 様式第１号（第５条、第１１条関係） | CS2: □
A3: 介護事業所等及び介護施設等に対するサービス継続支援事業に関する事業計画（実績）書（事業所単位） | CS3: ☑
A5: 施設概要
A7: 介護保険事業所番号 | O7: 事業所名称
A8: 所在地 | D8: 都道府県名 | H8: 住所 | T8: 連絡先 | W8: 電話番号 | AG8: 担当部署名
A10: 提供サービス | AG10: 定員 | AL10: 人
A11: 事業区分 | I11: □ | J11: 介護事業所等に対するサービス継続支援事業 | Y11: □ | Z11: 介護施設等に対するサービス継続支援事業
A15: 支出（予定）額
A17: １．介護事業所等に対するサービス継続支援事業 | AD17: 補助上限額 （交付決定額） | AI17: 申請額
AG18: 千円 | AI18: =MIN(AD18,ROUNDDOWN((H26+H35)/1000,0)) -> 0 | AL18: 千円
A19: 【介護サービスを円滑に継続するための対応】
A20: 科目 | H20: 所要額（円） | M20: 用途・品目・数量等
A21: ア 移動に伴い必要となる経費 | H21: =SUMIFS(明細!J9:X9,明細!$J$8:$X$8,$T$7,明細!$J$7:$X$7,$L$10) -> 0
A22: イ 猛暑対策用品や雪害対策用品の購入等経費 | H22: =SUMIFS(明細!J10:X10,明細!$J$8:$X$8,$T$7,明細!$J$7:$X$7,$L$10) -> 0
A23: ウ 入居者・利用者の生活環境改善、職員の負担軽減・勤務環境改善に必要となる経費 | H23: =SUMIFS(明細!J11:X11,明細!$J$8:$X$8,$T$7,明細!$J$7:$X$7,$L$10) -> 0
A24: エ 居室や浴室等における温度管理、湿度管理に必要な設備・物品等の購入等経費 | H24: =SUMIFS(明細!J12:X12,明細!$J$8:$X$8,$T$7,明細!$J$7:$X$7,$L$10) -> 0
A25: オ その他困難な事態下に介護サービスを継続するために必要と認められる経費 | H25: =SUMIFS(明細!J13:X13,明細!$J$8:$X$8,$T$7,明細!$J$7:$X$7,$L$10) -> 0
A26: 合計 | H26: =SUM(H21:L25) -> 0
A28: 【災害備蓄等への対応】
A29: 科目 | H29: 所要額（円） | M29: 用途・品目・数量等
A30: ア 飲料水、食料品等の備蓄物資の購入等経費 | H30: =SUMIFS(明細!J14:X14,明細!$J$8:$X$8,$T$7,明細!$J$7:$X$7,$L$10) -> 0
A31: イ ポータブル発電機、ポータブル電源・蓄電池等の購入経費 | H31: =SUMIFS(明細!J15:X15,明細!$J$8:$X$8,$T$7,明細!$J$7:$X$7,$L$10) -> 0
A32: ウ 衛生用品、医療用品等の購入等経費 | H32: =SUMIFS(明細!J16:X16,明細!$J$8:$X$8,$T$7,明細!$J$7:$X$7,$L$10) -> 0
A33: エ 簡易浄水器、冷房機、暖房機、簡易トイレ、清潔保持のための用具等の購入等経費 | H33: =SUMIFS(明細!J17:X17,明細!$J$8:$X$8,$T$7,明細!$J$7:$X$7,$L$10) -> 0
A34: オ その他災害への備えとして必要と認められる経費 | H34: =SUMIFS(明細!J18:X18,明細!$J$8:$X$8,$T$7,明細!$J$7:$X$7,$L$10) -> 0
A35: 合計 | H35: =SUM(H30:L34) -> 0
A37: ２．介護施設等に対するサービス継続支援事業 | AD37: 補助上限額 （交付決定額） | AI37: 申請額
AG38: 千円 | AI38: =IF(AD38="","",MIN(AD38,ROUNDDOWN(H46/1000,0))) | AL38: 千円
A40: 科目 | H40: 所要額（円） | M40: 用途・品目・数量等
A41: 食材料費等 | H41: =SUMIFS(明細!J19:X19,明細!$J$8:$X$8,$T$7,明細!$J$7:$X$7,$L$10) -> 0
A46: 合計 | H46: =SUM(H41:L45) -> 0
A48: （注）申請額は、補助上限額と所要額を比較していずれか低い方の額が入力される。

Sheet 収支決算書
A1: 様式第２号（第５条、第１１条関係）
A2: 収支予算（決算）書
A3: １ 収入 | F3: （単位：円）
B4: 区分 | C4: 金額 | F4: 備考
B5: 県補助金 | C5: =実績額一覧!G20*1000 -> 0
B6: 自主財源 | C6: =C16-C5 -> 0
B7: ３．その他（ ）
B8: 合計 | C8: =SUM(C5:E7) -> 0
A10: ２ 支出 | F10: （単位：円）
B11: 区分 | C11: 金額 | F11: 備考
B12: 介護事業所等に対するサービス継続支援事業 | C12: =SUM(事業実績書1:収支決算書!$H$26)+SUM(事業実績書1:収支決算書!$H$35) -> 0
B13: 介護施設等に対するサービス継続支援事業 | C13: =SUM(事業実績書1:収支決算書!$H$46) -> 0
B16: 合計 | C16: =SUM(C12:E15) -> 0

Sheet 明細
A2: ○領収書等の明細一覧
A3: 【留意事項】 １ 本資料は申請対象事業所・施設ごとに作成してください。 ２ 領収書等ごとに作成してください。領収書だけでは明細が不明な場合は請求書や納品書等の明細が分かる資料も添付してください。 ３ 補助対象経費は全て税抜額を入力してください。 ４ 交付決定日から事業完了日までに、発注、納品、支払いを済ませたものが補助対象となります。それ以外の期間に行ったものは補助対象外です。 ５ 「領収等No」には、別途ご提出いただく領収書等写しに記載いただく番号と同じものを入力してください。 ６ 「品目名」については、当該領収書等の対象経費となる物品等の名称及び個数を簡潔にご記載ください。複数ある場合は同一セル内にまとめて記入 して構いません。 ７ 商品名ではなく一般名を記入してください。 ８ 行数が不足する場合は、必要に応じて行を増やしてください。「明細」タブにカーソルを合わせる→右クリック→「シートの保護の解除」をクリックすると行追加できるようになります（他のシートでは「シートの保護の解除」は行わないでください ※事業所数が16以上の場合は解除して適宜加工してください）。
A5: 領収等No | B5: 施設・事業所名 （プルダウンから選択） | C5: 発注日 （依頼日） | D5: 納品日 （施行日） | E5: 費目名 （プルダウンから選択） | F5: 品目名 | G5: 金額（税抜）
A6: （例） | C6: 46204 | D6: 46235 | E6: （１）イ 猛暑対策用品や雪害対策用品の購入等経費 | F6: ネッククーラー５個 | G6: 6000
A7: （例） | C7: 46219 | D7: 46259 | E7: （２）ア 飲料水、食料品等の備蓄物資の購入等経費 | F7: 非常用飲料水500m 100本 非常食(乾パン) 40箱 | G7: 20000 | J7: =実績額一覧!D5 -> 0 | K7: =実績額一覧!D6 -> 0 | L7: =実績額一覧!D7 | M7: =実績額一覧!D8 | N7: =実績額一覧!D9 | O7: =実績額一覧!D10 | P7: =実績額一覧!D11 | Q7: =実績額一覧!D12 | R7: =実績額一覧!D13 | S7: =実績額一覧!D14 | T7: =実績額一覧!D15 | U7: =実績額一覧!D16 | V7: =実績額一覧!D17 | W7: =実績額一覧!D18 | X7: =実績額一覧!D19
A8: （例） | C8: 46243 | D8: 46257 | E8: （２）イ ポータブル発電機、ポータブル電源・蓄電池等の購入経費 | F8: ポータブル発電機 １台 | G8: 200000 | J8: =実績額一覧!B5 -> 0 | K8: =実績額一覧!B6 -> 0 | L8: =実績額一覧!B7 | M8: =実績額一覧!B8 | N8: =実績額一覧!B9 | O8: =実績額一覧!B10 | P8: =実績額一覧!B11 | Q8: =実績額一覧!B12 | R8: =実績額一覧!B13 | S8: =実績額一覧!B14 | T8: =実績額一覧!B15 | U8: =実績額一覧!B16 | V8: =実績額一覧!B17 | W8: =実績額一覧!B18 | X8: =実績額一覧!B19
A9: 1 | I9: （１）ア 移動に伴い必要となる経費 | J9: =SUMIFS($G$9:$G$58,$E$9:$E$58,I9,$B$9:$B$58,実績額一覧!$B$5) -> 0 | K9: =SUMIFS($G$9:$G$58,$E$9:$E$58,I9,$B$9:$B$58,実績額一覧!$B$6) -> 0 | L9: =SUMIFS($G$9:$G$58,$E$9:$E$58,I9,$B$9:$B$58,実績額一覧!$B$7) -> 0 | M9: =SUMIFS($G$9:$G$58,$E$9:$E$58,I9,$B$9:$B$58,実績額一覧!$B$8) -> 0 | N9: =SUMIFS($G$9:$G$58,$E$9:$E$58,I9,$B$9:$B$58,実績額一覧!$B$9) -> 0 | O9: =SUMIFS($G$9:$G$58,$E$9:$E$58,I9,$B$9:$B$58,実績額一覧!$B$10) -> 0 | P9: =SUMIFS($G$9:$G$58,$E$9:$E$58,I9,$B$9:$B$58,実績額一覧!$B$11) -> 0 | Q9: =SUMIFS($G$9:$G$58,$E$9:$E$58,I9,$B$9:$B$58,実績額一覧!$B$12) -> 0 | R9: =SUMIFS($G$9:$G$58,$E$9:$E$58,I9,$B$9:$B$58,実績額一覧!$B$13) -> 0 | S9: =SUMIFS($G$9:$G$58,$E$9:$E$58,I9,$B$9:$B$58,実績額一覧!$B$14) -> 0 | T9: =SUMIFS($G$9:$G$58,$E$9:$E$58,I9,$B$9:$B$58,実績額一覧!$B$15) -> 0 | U9: =SUMIFS($G$9:$G$58,$E$9:$E$58,I9,$B$9:$B$58,実績額一覧!$B$16) -> 0 | V9: =SUMIFS($G$9:$G$58,$E$9:$E$58,I9,$B$9:$B$58,実績額一覧!$B$17) -> 0 | W9: =SUMIFS($G$9:$G$58,$E$9:$E$58,I9,$B$9:$B$58,実績額一覧!$B$18) -> 0 | X9: =SUMIFS($G$9:$G$58,$E$9:$E$58,I9,$B$9:$B$58,実績額一覧!$B$19) -> 0
A10: 2 | I10: （１）イ 猛暑対策用品や雪害対策用品の購入等経費 | J10: =SUMIFS($G$9:$G$58,$E$9:$E$58,I10,$B$9:$B$58,実績額一覧!$B$5) -> 0 | K10: =SUMIFS($G$9:$G$58,$E$9:$E$58,I10,$B$9:$B$58,実績額一覧!$B$6) -> 0 | L10: =SUMIFS($G$9:$G$58,$E$9:$E$58,I10,$B$9:$B$58,実績額一覧!$B$7) -> 0 | M10: =SUMIFS($G$9:$G$58,$E$9:$E$58,I10,$B$9:$B$58,実績額一覧!$B$8) -> 0 | N10: =SUMIFS($G$9:$G$58,$E$9:$E$58,I10,$B$9:$B$58,実績額一覧!$B$9) -> 0 | O10: =SUMIFS($G$9:$G$58,$E$9:$E$58,I10,$B$9:$B$58,実績額一覧!$B$10) -> 0 | P10: =SUMIFS($G$9:$G$58,$E$9:$E$58,I10,$B$9:$B$58,実績額一覧!$B$11) -> 0 | Q10: =SUMIFS($G$9:$G$58,$E$9:$E$58,I10,$B$9:$B$58,実績額一覧!$B$12) -> 0 | R10: =SUMIFS($G$9:$G$58,$E$9:$E$58,I10,$B$9:$B$58,実績額一覧!$B$13) -> 0 | S10: =SUMIFS($G$9:$G$58,$E$9:$E$58,I10,$B$9:$B$58,実績額一覧!$B$14) -> 0 | T10: =SUMIFS($G$9:$G$58,$E$9:$E$58,I10,$B$9:$B$58,実績額一覧!$B$15) -> 0 | U10: =SUMIFS($G$9:$G$58,$E$9:$E$58,I10,$B$9:$B$58,実績額一覧!$B$16) -> 0 | V10: =SUMIFS($G$9:$G$58,$E$9:$E$58,I10,$B$9:$B$58,実績額一覧!$B$17) -> 0 | W10: =SUMIFS($G$9:$G$58,$E$9:$E$58,I10,$B$9:$B$58,実績額一覧!$B$18) -> 0 | X10: =SUMIFS($G$9:$G$58,$E$9:$E$58,I10,$B$9:$B$58,実績額一覧!$B$19) -> 0
A11: 3 | I11: （１）ウ 入居者・利用者の生活環境改善、職員の負担軽減・勤務環境改善に必要となる経費 | J11: =SUMIFS($G$9:$G$58,$E$9:$E$58,I11,$B$9:$B$58,実績額一覧!$B$5) -> 0 | K11: =SUMIFS($G$9:$G$58,$E$9:$E$58,I11,$B$9:$B$58,実績額一覧!$B$6) -> 0 | L11: =SUMIFS($G$9:$G$58,$E$9:$E$58,I11,$B$9:$B$58,実績額一覧!$B$7) -> 0 | M11: =SUMIFS($G$9:$G$58,$E$9:$E$58,I11,$B$9:$B$58,実績額一覧!$B$8) -> 0 | N11: =SUMIFS($G$9:$G$58,$E$9:$E$58,I11,$B$9:$B$58,実績額一覧!$B$9) -> 0 | O11: =SUMIFS($G$9:$G$58,$E$9:$E$58,I11,$B$9:$B$58,実績額一覧!$B$10) -> 0 | P11: =SUMIFS($G$9:$G$58,$E$9:$E$58,I11,$B$9:$B$58,実績額一覧!$B$11) -> 0 | Q11: =SUMIFS($G$9:$G$58,$E$9:$E$58,I11,$B$9:$B$58,実績額一覧!$B$12) -> 0 | R11: =SUMIFS($G$9:$G$58,$E$9:$E$58,I11,$B$9:$B$58,実績額一覧!$B$13) -> 0 | S11: =SUMIFS($G$9:$G$58,$E$9:$E$58,I11,$B$9:$B$58,実績額一覧!$B$14) -> 0 | T11: =SUMIFS($G$9:$G$58,$E$9:$E$58,I11,$B$9:$B$58,実績額一覧!$B$15) -> 0 | U11: =SUMIFS($G$9:$G$58,$E$9:$E$58,I11,$B$9:$B$58,実績額一覧!$B$16) -> 0 | V11: =SUMIFS($G$9:$G$58,$E$9:$E$58,I11,$B$9:$B$58,実績額一覧!$B$17) -> 0 | W11: =SUMIFS($G$9:$G$58,$E$9:$E$58,I11,$B$9:$B$58,実績額一覧!$B$18) -> 0 | X11: =SUMIFS($G$9:$G$58,$E$9:$E$58,I11,$B$9:$B$58,実績額一覧!$B$19) -> 0
A12: 4 | I12: （１）エ 居室や浴室等における温度管理、湿度管理に必要な設備・物品等の購入等経費 | J12: =SUMIFS($G$9:$G$58,$E$9:$E$58,I12,$B$9:$B$58,実績額一覧!$B$5) -> 0 | K12: =SUMIFS($G$9:$G$58,$E$9:$E$58,I12,$B$9:$B$58,実績額一覧!$B$6) -> 0 | L12: =SUMIFS($G$9:$G$58,$E$9:$E$58,I12,$B$9:$B$58,実績額一覧!$B$7) -> 0 | M12: =SUMIFS($G$9:$G$58,$E$9:$E$58,I12,$B$9:$B$58,実績額一覧!$B$8) -> 0 | N12: =SUMIFS($G$9:$G$58,$E$9:$E$58,I12,$B$9:$B$58,実績額一覧!$B$9) -> 0 | O12: =SUMIFS($G$9:$G$58,$E$9:$E$58,I12,$B$9:$B$58,実績額一覧!$B$10) -> 0 | P12: =SUMIFS($G$9:$G$58,$E$9:$E$58,I12,$B$9:$B$58,実績額一覧!$B$11) -> 0 | Q12: =SUMIFS($G$9:$G$58,$E$9:$E$58,I12,$B$9:$B$58,実績額一覧!$B$12) -> 0 | R12: =SUMIFS($G$9:$G$58,$E$9:$E$58,I12,$B$9:$B$58,実績額一覧!$B$13) -> 0 | S12: =SUMIFS($G$9:$G$58,$E$9:$E$58,I12,$B$9:$B$58,実績額一覧!$B$14) -> 0 | T12: =SUMIFS($G$9:$G$58,$E$9:$E$58,I12,$B$9:$B$58,実績額一覧!$B$15) -> 0 | U12: =SUMIFS($G$9:$G$58,$E$9:$E$58,I12,$B$9:$B$58,実績額一覧!$B$16) -> 0 | V12: =SUMIFS($G$9:$G$58,$E$9:$E$58,I12,$B$9:$B$58,実績額一覧!$B$17) -> 0 | W12: =SUMIFS($G$9:$G$58,$E$9:$E$58,I12,$B$9:$B$58,実績額一覧!$B$18) -> 0 | X12: =SUMIFS($G$9:$G$58,$E$9:$E$58,I12,$B$9:$B$58,実績額一覧!$B$19) -> 0
A13: 5 | I13: （１）オ その他困難な事態下に介護サービスを継続するために必要と認められる経費 | J13: =SUMIFS($G$9:$G$58,$E$9:$E$58,I13,$B$9:$B$58,実績額一覧!$B$5) -> 0 | K13: =SUMIFS($G$9:$G$58,$E$9:$E$58,I13,$B$9:$B$58,実績額一覧!$B$6) -> 0 | L13: =SUMIFS($G$9:$G$58,$E$9:$E$58,I13,$B$9:$B$58,実績額一覧!$B$7) -> 0 | M13: =SUMIFS($G$9:$G$58,$E$9:$E$58,I13,$B$9:$B$58,実績額一覧!$B$8) -> 0 | N13: =SUMIFS($G$9:$G$58,$E$9:$E$58,I13,$B$9:$B$58,実績額一覧!$B$9) -> 0 | O13: =SUMIFS($G$9:$G$58,$E$9:$E$58,I13,$B$9:$B$58,実績額一覧!$B$10) -> 0 | P13: =SUMIFS($G$9:$G$58,$E$9:$E$58,I13,$B$9:$B$58,実績額一覧!$B$11) -> 0 | Q13: =SUMIFS($G$9:$G$58,$E$9:$E$58,I13,$B$9:$B$58,実績額一覧!$B$12) -> 0 | R13: =SUMIFS($G$9:$G$58,$E$9:$E$58,I13,$B$9:$B$58,実績額一覧!$B$13) -> 0 | S13: =SUMIFS($G$9:$G$58,$E$9:$E$58,I13,$B$9:$B$58,実績額一覧!$B$14) -> 0 | T13: =SUMIFS($G$9:$G$58,$E$9:$E$58,I13,$B$9:$B$58,実績額一覧!$B$15) -> 0 | U13: =SUMIFS($G$9:$G$58,$E$9:$E$58,I13,$B$9:$B$58,実績額一覧!$B$16) -> 0 | V13: =SUMIFS($G$9:$G$58,$E$9:$E$58,I13,$B$9:$B$58,実績額一覧!$B$17) -> 0 | W13: =SUMIFS($G$9:$G$58,$E$9:$E$58,I13,$B$9:$B$58,実績額一覧!$B$18) -> 0 | X13: =SUMIFS($G$9:$G$58,$E$9:$E$58,I13,$B$9:$B$58,実績額一覧!$B$19) -> 0
A14: 6 | I14: （２）ア 飲料水、食料品等の備蓄物資の購入等経費 | J14: =SUMIFS($G$9:$G$58,$E$9:$E$58,I14,$B$9:$B$58,実績額一覧!$B$5) -> 0 | K14: =SUMIFS($G$9:$G$58,$E$9:$E$58,I14,$B$9:$B$58,実績額一覧!$B$6) -> 0 | L14: =SUMIFS($G$9:$G$58,$E$9:$E$58,I14,$B$9:$B$58,実績額一覧!$B$7) -> 0 | M14: =SUMIFS($G$9:$G$58,$E$9:$E$58,I14,$B$9:$B$58,実績額一覧!$B$8) -> 0 | N14: =SUMIFS($G$9:$G$58,$E$9:$E$58,I14,$B$9:$B$58,実績額一覧!$B$9) -> 0 | O14: =SUMIFS($G$9:$G$58,$E$9:$E$58,I14,$B$9:$B$58,実績額一覧!$B$10) -> 0 | P14: =SUMIFS($G$9:$G$58,$E$9:$E$58,I14,$B$9:$B$58,実績額一覧!$B$11) -> 0 | Q14: =SUMIFS($G$9:$G$58,$E$9:$E$58,I14,$B$9:$B$58,実績額一覧!$B$12) -> 0 | R14: =SUMIFS($G$9:$G$58,$E$9:$E$58,I14,$B$9:$B$58,実績額一覧!$B$13) -> 0 | S14: =SUMIFS($G$9:$G$58,$E$9:$E$58,I14,$B$9:$B$58,実績額一覧!$B$14) -> 0 | T14: =SUMIFS($G$9:$G$58,$E$9:$E$58,I14,$B$9:$B$58,実績額一覧!$B$15) -> 0 | U14: =SUMIFS($G$9:$G$58,$E$9:$E$58,I14,$B$9:$B$58,実績額一覧!$B$16) -> 0 | V14: =SUMIFS($G$9:$G$58,$E$9:$E$58,I14,$B$9:$B$58,実績額一覧!$B$17) -> 0 | W14: =SUMIFS($G$9:$G$58,$E$9:$E$58,I14,$B$9:$B$58,実績額一覧!$B$18) -> 0 | X14: =SUMIFS($G$9:$G$58,$E$9:$E$58,I14,$B$9:$B$58,実績額一覧!$B$19) -> 0
A15: 7 | I15: （２）イ ポータブル発電機、ポータブル電源・蓄電池等の購入経費 | J15: =SUMIFS($G$9:$G$58,$E$9:$E$58,I15,$B$9:$B$58,実績額一覧!$B$5) -> 0 | K15: =SUMIFS($G$9:$G$58,$E$9:$E$58,I15,$B$9:$B$58,実績額一覧!$B$6) -> 0 | L15: =SUMIFS($G$9:$G$58,$E$9:$E$58,I15,$B$9:$B$58,実績額一覧!$B$7) -> 0 | M15: =SUMIFS($G$9:$G$58,$E$9:$E$58,I15,$B$9:$B$58,実績額一覧!$B$8) -> 0 | N15: =SUMIFS($G$9:$G$58,$E$9:$E$58,I15,$B$9:$B$58,実績額一覧!$B$9) -> 0 | O15: =SUMIFS($G$9:$G$58,$E$9:$E$58,I15,$B$9:$B$58,実績額一覧!$B$10) -> 0 | P15: =SUMIFS($G$9:$G$58,$E$9:$E$58,I15,$B$9:$B$58,実績額一覧!$B$11) -> 0 | Q15: =SUMIFS($G$9:$G$58,$E$9:$E$58,I15,$B$9:$B$58,実績額一覧!$B$12) -> 0 | R15: =SUMIFS($G$9:$G$58,$E$9:$E$58,I15,$B$9:$B$58,実績額一覧!$B$13) -> 0 | S15: =SUMIFS($G$9:$G$58,$E$9:$E$58,I15,$B$9:$B$58,実績額一覧!$B$14) -> 0 | T15: =SUMIFS($G$9:$G$58,$E$9:$E$58,I15,$B$9:$B$58,実績額一覧!$B$15) -> 0 | U15: =SUMIFS($G$9:$G$58,$E$9:$E$58,I15,$B$9:$B$58,実績額一覧!$B$16) -> 0 | V15: =SUMIFS($G$9:$G$58,$E$9:$E$58,I15,$B$9:$B$58,実績額一覧!$B$17) -> 0 | W15: =SUMIFS($G$9:$G$58,$E$9:$E$58,I15,$B$9:$B$58,実績額一覧!$B$18) -> 0 | X15: =SUMIFS($G$9:$G$58,$E$9:$E$58,I15,$B$9:$B$58,実績額一覧!$B$19) -> 0
A16: 8 | I16: （２）ウ 衛生用品、医療用品等の購入等経費 | J16: =SUMIFS($G$9:$G$58,$E$9:$E$58,I16,$B$9:$B$58,実績額一覧!$B$5) -> 0 | K16: =SUMIFS($G$9:$G$58,$E$9:$E$58,I16,$B$9:$B$58,実績額一覧!$B$6) -> 0 | L16: =SUMIFS($G$9:$G$58,$E$9:$E$58,I16,$B$9:$B$58,実績額一覧!$B$7) -> 0 | M16: =SUMIFS($G$9:$G$58,$E$9:$E$58,I16,$B$9:$B$58,実績額一覧!$B$8) -> 0 | N16: =SUMIFS($G$9:$G$58,$E$9:$E$58,I16,$B$9:$B$58,実績額一覧!$B$9) -> 0 | O16: =SUMIFS($G$9:$G$58,$E$9:$E$58,I16,$B$9:$B$58,実績額一覧!$B$10) -> 0 | P16: =SUMIFS($G$9:$G$58,$E$9:$E$58,I16,$B$9:$B$58,実績額一覧!$B$11) -> 0 | Q16: =SUMIFS($G$9:$G$58,$E$9:$E$58,I16,$B$9:$B$58,実績額一覧!$B$12) -> 0 | R16: =SUMIFS($G$9:$G$58,$E$9:$E$58,I16,$B$9:$B$58,実績額一覧!$B$13) -> 0 | S16: =SUMIFS($G$9:$G$58,$E$9:$E$58,I16,$B$9:$B$58,実績額一覧!$B$14) -> 0 | T16: =SUMIFS($G$9:$G$58,$E$9:$E$58,I16,$B$9:$B$58,実績額一覧!$B$15) -> 0 | U16: =SUMIFS($G$9:$G$58,$E$9:$E$58,I16,$B$9:$B$58,実績額一覧!$B$16) -> 0 | V16: =SUMIFS($G$9:$G$58,$E$9:$E$58,I16,$B$9:$B$58,実績額一覧!$B$17) -> 0 | W16: =SUMIFS($G$9:$G$58,$E$9:$E$58,I16,$B$9:$B$58,実績額一覧!$B$18) -> 0 | X16: =SUMIFS($G$9:$G$58,$E$9:$E$58,I16,$B$9:$B$58,実績額一覧!$B$19) -> 0
A17: 9 | I17: （２）エ 簡易浄水器、冷房機、暖房機、簡易トイレ、清潔保持のための用具等の購入等経費 | J17: =SUMIFS($G$9:$G$58,$E$9:$E$58,I17,$B$9:$B$58,実績額一覧!$B$5) -> 0 | K17: =SUMIFS($G$9:$G$58,$E$9:$E$58,I17,$B$9:$B$58,実績額一覧!$B$6) -> 0 | L17: =SUMIFS($G$9:$G$58,$E$9:$E$58,I17,$B$9:$B$58,実績額一覧!$B$7) -> 0 | M17: =SUMIFS($G$9:$G$58,$E$9:$E$58,I17,$B$9:$B$58,実績額一覧!$B$8) -> 0 | N17: =SUMIFS($G$9:$G$58,$E$9:$E$58,I17,$B$9:$B$58,実績額一覧!$B$9) -> 0 | O17: =SUMIFS($G$9:$G$58,$E$9:$E$58,I17,$B$9:$B$58,実績額一覧!$B$10) -> 0 | P17: =SUMIFS($G$9:$G$58,$E$9:$E$58,I17,$B$9:$B$58,実績額一覧!$B$11) -> 0 | Q17: =SUMIFS($G$9:$G$58,$E$9:$E$58,I17,$B$9:$B$58,実績額一覧!$B$12) -> 0 | R17: =SUMIFS($G$9:$G$58,$E$9:$E$58,I17,$B$9:$B$58,実績額一覧!$B$13) -> 0 | S17: =SUMIFS($G$9:$G$58,$E$9:$E$58,I17,$B$9:$B$58,実績額一覧!$B$14) -> 0 | T17: =SUMIFS($G$9:$G$58,$E$9:$E$58,I17,$B$9:$B$58,実績額一覧!$B$15) -> 0 | U17: =SUMIFS($G$9:$G$58,$E$9:$E$58,I17,$B$9:$B$58,実績額一覧!$B$16) -> 0 | V17: =SUMIFS($G$9:$G$58,$E$9:$E$58,I17,$B$9:$B$58,実績額一覧!$B$17) -> 0 | W17: =SUMIFS($G$9:$G$58,$E$9:$E$58,I17,$B$9:$B$58,実績額一覧!$B$18) -> 0 | X17: =SUMIFS($G$9:$G$58,$E$9:$E$58,I17,$B$9:$B$58,実績額一覧!$B$19) -> 0
A18: 10 | I18: （２）オ その他災害への備えとして必要と認められる経費 | J18: =SUMIFS($G$9:$G$58,$E$9:$E$58,I18,$B$9:$B$58,実績額一覧!$B$5) -> 0 | K18: =SUMIFS($G$9:$G$58,$E$9:$E$58,I18,$B$9:$B$58,実績額一覧!$B$6) -> 0 | L18: =SUMIFS($G$9:$G$58,$E$9:$E$58,I18,$B$9:$B$58,実績額一覧!$B$7) -> 0 | M18: =SUMIFS($G$9:$G$58,$E$9:$E$58,I18,$B$9:$B$58,実績額一覧!$B$8) -> 0 | N18: =SUMIFS($G$9:$G$58,$E$9:$E$58,I18,$B$9:$B$58,実績額一覧!$B$9) -> 0 | O18: =SUMIFS($G$9:$G$58,$E$9:$E$58,I18,$B$9:$B$58,実績額一覧!$B$10) -> 0 | P18: =SUMIFS($G$9:$G$58,$E$9:$E$58,I18,$B$9:$B$58,実績額一覧!$B$11) -> 0 | Q18: =SUMIFS($G$9:$G$58,$E$9:$E$58,I18,$B$9:$B$58,実績額一覧!$B$12) -> 0 | R18: =SUMIFS($G$9:$G$58,$E$9:$E$58,I18,$B$9:$B$58,実績額一覧!$B$13) -> 0 | S18: =SUMIFS($G$9:$G$58,$E$9:$E$58,I18,$B$9:$B$58,実績額一覧!$B$14) -> 0 | T18: =SUMIFS($G$9:$G$58,$E$9:$E$58,I18,$B$9:$B$58,実績額一覧!$B$15) -> 0 | U18: =SUMIFS($G$9:$G$58,$E$9:$E$58,I18,$B$9:$B$58,実績額一覧!$B$16) -> 0 | V18: =SUMIFS($G$9:$G$58,$E$9:$E$58,I18,$B$9:$B$58,実績額一覧!$B$17) -> 0 | W18: =SUMIFS($G$9:$G$58,$E$9:$E$58,I18,$B$9:$B$58,実績額一覧!$B$18) -> 0 | X18: =SUMIFS($G$9:$G$58,$E$9:$E$58,I18,$B$9:$B$58,実績額一覧!$B$19) -> 0
A19: 11 | I19: 食材料費等 | J19: =SUMIFS($G$9:$G$58,$E$9:$E$58,I19,$B$9:$B$58,実績額一覧!$B$5) -> 0 | K19: =SUMIFS($G$9:$G$58,$E$9:$E$58,I19,$B$9:$B$58,実績額一覧!$B$6) -> 0 | L19: =SUMIFS($G$9:$G$58,$E$9:$E$58,I19,$B$9:$B$58,実績額一覧!$B$7) -> 0 | M19: =SUMIFS($G$9:$G$58,$E$9:$E$58,I19,$B$9:$B$58,実績額一覧!$B$8) -> 0 | N19: =SUMIFS($G$9:$G$58,$E$9:$E$58,I19,$B$9:$B$58,実績額一覧!$B$9) -> 0 | O19: =SUMIFS($G$9:$G$58,$E$9:$E$58,I19,$B$9:$B$58,実績額一覧!$B$10) -> 0 | P19: =SUMIFS($G$9:$G$58,$E$9:$E$58,I19,$B$9:$B$58,実績額一覧!$B$11) -> 0 | Q19: =SUMIFS($G$9:$G$58,$E$9:$E$58,I19,$B$9:$B$58,実績額一覧!$B$12) -> 0 | R19: =SUMIFS($G$9:$G$58,$E$9:$E$58,I19,$B$9:$B$58,実績額一覧!$B$13) -> 0 | S19: =SUMIFS($G$9:$G$58,$E$9:$E$58,I19,$B$9:$B$58,実績額一覧!$B$14) -> 0 | T19: =SUMIFS($G$9:$G$58,$E$9:$E$58,I19,$B$9:$B$58,実績額一覧!$B$15) -> 0 | U19: =SUMIFS($G$9:$G$58,$E$9:$E$58,I19,$B$9:$B$58,実績額一覧!$B$16) -> 0 | V19: =SUMIFS($G$9:$G$58,$E$9:$E$58,I19,$B$9:$B$58,実績額一覧!$B$17) -> 0 | W19: =SUMIFS($G$9:$G$58,$E$9:$E$58,I19,$B$9:$B$58,実績額一覧!$B$18) -> 0 | X19: =SUMIFS($G$9:$G$58,$E$9:$E$58,I19,$B$9:$B$58,実績額一覧!$B$19) -> 0
A20: 12
A21: 13
A22: 14
A23: 15
A24: 16
A25: 17
A26: 18
A27: 19
A28: 20
A29: 21
A30: 22
A31: 23
... A58: 50
A59: 合計 | G59: =SUM(G9:G58) -> 0

Sheet リスト
B1: 事業所・施設等の種別 | H1: （１）介護サービスを円滑に継続するための対応
A2: 1 | B2: 訪問介護事業所 集合住宅併設型（同一建物減算の算定がある事業所） | C2: 200 | D2: /事業所 | H2: ア 移動に伴い必要となる経費
A3: 2 | B3: 訪問介護事業所 上記以外であって、1月あたり延べ訪問回数200回以下 | C3: 300 | D3: /事業所 | H3: イ 猛暑対策用品や雪害対策用品の購入等経費
A4: 3 | B4: 訪問介護事業所 上記以外であって、1月あたり延べ訪問回数201回以上2,000回以下 | C4: 400 | D4: /事業所 | H4: ウ 入居者・利用者の生活環境改善、職員の負担軽減・勤務環境改善に必要となる経費
A5: 4 | B5: 訪問介護事業所 上記以外であって、1月あたり延べ訪問回数2,001回以上 | C5: 500 | D5: /事業所 | H5: エ 居室や浴室等における温度管理、湿度管理に必要な設備・物品等の購入等経費
A6: 5 | B6: 訪問入浴介護事業所 | C6: 200 | D6: /事業所 | H6: オ その他困難な事態下に介護サービスを継続するために必要と認められる経費
A7: 6 | B7: 訪問看護事業所 | C7: 200 | D7: /事業所
A8: 7 | B8: 訪問リハビリテーション事業所 | C8: 200 | D8: /事業所 | H8: （２）災害備蓄等への対応
A9: 8 | B9: 通所介護事業所 1月あたり延べ利用者数300人以下 | C9: 200 | D9: /事業所 | H9: ア 飲料水、食料品等の備蓄物資の購入等経費
A10: 9 | B10: 通所介護事業所 1月あたり延べ利用者数301人以上600人以下 | C10: 300 | D10: /定員 | H10: イ ポータブル発電機、ポータブル電源・蓄電池等の購入経費
A11: 10 | B11: 通所介護事業所 1月あたり延べ利用者数601人以上 | C11: 400 | D11: /定員 | H11: ウ 衛生用品、医療用品等の購入等経費
A12: 11 | B12: 通所リハビリテーション事業所 | C12: 200 | D12: /事業所 | H12: エ 簡易浄水器、冷房機、暖房機、簡易トイレ、清潔保持のための用具等の購入等経費
A13: 12 | B13: 特定施設入居者生活介護（養護老人ホーム、軽費老人ホームを除く） | C13: 200 | D13: /事業所 | H13: オ その他災害への備えとして必要と認められる経費
A14: 13 | B14: 福祉用具貸与事業所 | C14: 200 | D14: /事業所
A15: 14 | B15: 定期巡回・随時対応型訪問介護看護事業所 | C15: 200 | D15: /事業所 | H15: 食材料費等
A16: 15 | B16: 夜間対応型訪問介護事業所 | C16: 200 | D16: /事業所
A17: 16 | B17: 地域密着型通所介護事業所 | C17: 200 | D17: /事業所 | H17: 介護事業所等に対するサービス継続支援事業
A18: 17 | B18: 認知症対応型通所介護事業所 | C18: 200 | D18: /事業所 | H18: 介護施設等に対するサービス継続支援事業
A19: 18 | B19: 小規模多機能型居宅介護事業所 | C19: 200 | D19: /事業所
A20: 19 | B20: 認知症対応型共同生活介護事業所 | C20: 200 | D20: /事業所
A21: 20 | B21: 地域密着型特定施設入居者生活介護（養護老人ホーム、軽費老人ホームを除く） | C21: 200 | D21: /事業所 | H21: （１）ア 移動に伴い必要となる経費
A22: 21 | B22: 看護小規模多機能型居宅介護事業所 | C22: 200 | D22: /事業所 | H22: （１）イ 猛暑対策用品や雪害対策用品の購入等経費
A23: 22 | B23: 居宅介護支援事業所 | C23: 200 | D23: /事業所 | H23: （１）ウ 入居者・利用者の生活環境改善、職員の負担軽減・勤務環境改善に必要となる経費
A24: 23 | B24: 介護老人福祉施設 | C24: 6 | D24: /定員 | E24: 18 | F24: /定員 | H24: （１）エ 居室や浴室等における温度管理、湿度管理に必要な設備・物品等の購入等経費
A25: 24 | B25: 介護老人保健施設 | C25: 6 | D25: /定員 | E25: 18 | F25: /定員 | H25: （１）オ その他困難な事態下に介護サービスを継続するために必要と認められる経費
A26: 25 | B26: 介護医療院 | C26: 6 | D26: /定員 | E26: 18 | F26: /定員 | H26: （２）ア 飲料水、食料品等の備蓄物資の購入等経費
A27: 26 | B27: 地域密着型介護老人福祉施設 | C27: 6 | D27: /定員 | E27: 18 | F27: /定員 | H27: （２）イ ポータブル発電機、ポータブル電源・蓄電池等の購入経費
A28: 27 | B28: 短期入所生活介護事業所 | C28: 6 | D28: /定員 | E28: 18 | F28: /定員 | H28: （２）ウ 衛生用品、医療用品等の購入等経費
A29: 28 | B29: 養護老人ホーム | C29: 6 | D29: /定員 | E29: 18 | F29: /定員 | H29: （２）エ 簡易浄水器、冷房機、暖房機、簡易トイレ、清潔保持のための用具等の購入等経費
A30: 29 | B30: 軽費老人ホーム | C30: 6 | D30: /定員 | E30: 18 | F30: /定員 | H30: （２）オ その他災害への備えとして必要と認められる経費
H31: 食材料費等
B32: 北海道
B33: 青森県
B34: 岩手県
B35: 宮城県
B36: 秋田県
B37: 山形県
B38: 福島県
B39: 茨城県
B40: 栃木県
...
