Workbook

Sheet 第１表
B1: Ⅲ 統計表
B2: 第１表 産業別名目賃金指数（令和８年７月）
B4: （事業所規模５人以上） | U4: 令和２年＝１００
D5: 現金給与総額 | T5: きまって支給 | U5: 所 定 内
T6: する給与 | U6: 給 与
D7: 調査産業計 | E7: 建設業 | F7: 製造業 | G7: 電気・ガス・熱供給・水道業 | H7: 情報通信業 | I7: 運輸業，郵便業 | J7: 卸売業，小売業 | K7: 金融業，保険業 | L7: 不動産業，物品賃貸業 | M7: 学術研究，専門・技術サービス業 | N7: 宿泊業，飲食サービス業 | O7: 生活関連サービス業，娯楽業 | P7: 教育，学習支援業 | Q7: 医療，福祉 | R7: 複合サービス事業 | S7: サービス業（他に分類されないもの） | T7: 調査産業計 | U7: 調査産業計
A8: 29 | B8: 令和元年平均 | D8: 100.6 | E8: 103.7 | F8: 98.6 | G8: 108.5 | H8: 102.1 | I8: 95.7 | J8: 101.8 | K8: 104 | L8: 129.5 | M8: 101.5 | N8: 97 | O8: 84.2 | P8: 98.6 | Q8: 100.5 | R8: 121.7 | S8: 98.1 | T8: 101.3 | U8: 101.3
A9: 30 | B9: 2 | D9: 100 | E9: 100 | F9: 100 | G9: 100 | H9: 100 | I9: 100 | J9: 100 | K9: 100 | L9: 100 | M9: 100 | N9: 100 | O9: 100 | P9: 100 | Q9: 100 | R9: 100 | S9: 100 | T9: 100 | U9: 100
A10: 1 | B10: 3 | D10: 103 | E10: 100.2 | F10: 104.2 | G10: 110.5 | H10: 134.7 | I10: 101.4 | J10: 105.1 | K10: 106.6 | L10: 143 | M10: 98 | N10: 100.8 | O10: 119.4 | P10: 106.6 | Q10: 94.5 | R10: 100.5 | S10: 100.4 | T10: 102.2 | U10: 102.2
A11: 2 | B11: 4 | D11: 104 | E11: 94.8 | F11: 113.5 | G11: 118.8 | H11: 152.4 | I11: 94.5 | J11: 107.9 | K11: 93.7 | L11: 125.7 | M11: 97 | N11: 110.4 | O11: 96 | P11: 112.8 | Q11: 97.9 | R11: 99.9 | S11: 90.3 | T11: 103.2 | U11: 102.7
A12: 3 | B12: 5 | D12: 102.6 | E12: 91.4 | F12: 109.2 | G12: 125.9 | H12: 146.8 | I12: 91.3 | J12: 107.2 | K12: 108.2 | L12: 103.9 | M12: 105.5 | N12: 90.4 | O12: 108.8 | P12: 116 | Q12: 97.8 | R12: 98 | S12: 92.9 | T12: 102 | U12: 101.9
A13: 4 | B13: 6 | D13: 109 | E13: 101.2 | F13: 114.9 | G13: 123.7 | H13: 120.9 | I13: 93.6 | J13: 127.1 | K13: 121.8 | L13: 143.6 | M13: 100.2 | N13: 88.7 | O13: 119.7 | P13: 114.4 | Q13: 106.5 | R13: 112.1 | S13: 91.9 | T13: 106.2 | U13: 106
A14: 5 | B14: 7 | D14: 111.7 | E14: 113.5 | F14: 115 | G14: 97.3 | H14: 148.3 | I14: 105.6 | J14: 113.4 | K14: 126.2 | L14: 169.6 | M14: 125.4 | N14: 121.8 | O14: 105.2 | P14: 121.8 | Q14: 113.5 | R14: 109.5 | S14: 86.8 | T14: 108 | U14: 107.9
A15: 52 | B15: 令和7年 | C15: 7 | D15: 120.7 | E15: 135.8 | F15: 124.3 | G15: 86.5 | H15: 129.7 | I15: 125.2 | J15: 134.8 | K15: 108.8 | L15: 236.4 | M15: 165.9 | N15: 145.3 | O15: 130.4 | P15: 100.7 | Q15: 120.8 | R15: 91.2 | S15: 92 | T15: 109 | U15: 109.4
A16: 53 | C16: 8 | D16: 97.6 | E16: 114.9 | F16: 107.1 | G16: 77.5 | H16: 112.1 | I16: 88.9 | J16: 98.5 | K16: 99.5 | L16: 190.5 | M16: 92.6 | N16: 131.4 | O16: 95.1 | P16: 89.4 | Q16: 97.1 | R16: 85.2 | S16: 86 | T16: 107.1 | U16: 107.5
A17: 54 | C17: 9 | D17: 95 | E17: 90.9 | F17: 99.6 | G17: 78 | H17: 114.8 | I17: 82.8 | J17: 98.4 | K17: 101.4 | L17: 143.5 | M17: 160.7 | N17: 121.6 | O17: 91 | P17: 92.7 | Q17: 95.5 | R17: 84.4 | S17: 78 | T17: 107.6 | U17: 108.1
A18: 55 | C18: 10 | D18: 92.6 | E18: 91.2 | F18: 97.1 | G18: 76.3 | H18: 118.4 | I18: 82.9 | J18: 97.3 | K18: 104.4 | L18: 127.2 | M18: 92.1 | N18: 117.2 | O18: 108.7 | P18: 96.3 | Q18: 93.7 | R18: 86 | S18: 74.3 | T18: 108.1 | U18: 108.1
A19: 56 | C19: 11 | D19: 101.9 | E19: 133.8 | F19: 122.6 | G19: 102.1 | H19: 123.5 | I19: 82.8 | J19: 97.1 | K19: 123 | L19: 142.6 | M19: 90.4 | N19: 128.5 | O19: 100.3 | P19: 95.2 | Q19: 97.2 | R19: 80.5 | S19: 84.6 | T19: 108.5 | U19: 108.1
A20: 57 | C20: 12 | D20: 198.5 | E20: 186.1 | F20: 190 | G20: 109.9 | H20: 325.7 | I20: 189.8 | J20: 159.6 | K20: 248.5 | L20: 282.7 | M20: 295.4 | N20: 150.9 | O20: 142.8 | P20: 277.8 | Q20: 224.8 | R20: 224.1 | S20: 114.1 | T20: 110.4 | U20: 110.5
A21: 58 | B21: 令和8年 | C21: 1 | D21: 98.5 | E21: 92.5 | F21: 96.3 | G21: 85.5 | H21: 114.5 | I21: 81 | J21: 104 | K21: 101.9 | L21: 134.4 | M21: 96.3 | N21: 101.3 | O21: 96.5 | P21: 99.6 | Q21: 111.1 | R21: 100.8 | S21: 84.9 | T21: 113.4 | U21: 113.1
A22: 59 | C22: 2 | D22: 95.6 | E22: 103.2 | F22: 94.5 | G22: 85.5 | H22: 113.6 | I22: 81.9 | J22: 100.8 | K22: 103.3 | L22: 126.6 | M22: 96.6 | N22: 104.3 | O22: 86.2 | P22: 100.1 | Q22: 98.7 | R22: 99.9 | S22: 83.9 | T22: 111.1 | U22: 110.8
A23: 510 | C23: 3 | D23: 103.7 | E23: 100 | F23: 98 | G23: 89.9 | H23: 114.1 | I23: 88.7 | J23: 102.7 | K23: 136.1 | L23: 168.5 | M23: 94.9 | N23: 107.2 | O23: 99.9 | P23: 114.3 | Q23: 111 | R23: 99.6 | S23: 99.3 | T23: 113.1 | U23: 113.2
A24: 511 | C24: 4 | D24: 99.5 | E24: 103.1 | F24: 103.4 | G24: 92.9 | H24: 108.4 | I24: 89 | J24: 103.7 | K24: 108.7 | L24: 131.4 | M24: 128.3 | N24: 112.9 | O24: 90.5 | P24: 95.6 | Q24: 97.9 | R24: 100.5 | S24: 93 | T24: 113.7 | U24: 113.9
A25: 512 | C25: 5 | D25: 99.7 | E25: 96.5 | F25: 108.7 | G25: 90.6 | H25: 119.8 | I25: 88.6 | J25: 103.5 | K25: 111.9 | L25: 155.5 | M25: 97.6 | N25: 132.3 | O25: 94.5 | P25: 98.3 | Q25: 98.2 | R25: 100.8 | S25: 90 | T25: 113.7 | U25: 113.8
A26: 61 | C26: 6 | D26: 171.3 | E26: 103.7 | F26: 160 | G26: 259.5 | H26: 266.3 | I26: 148.1 | J26: 119.1 | K26: 277.5 | L26: 203.3 | M26: 157.2 | N26: 128.8 | O26: 124.3 | P26: 283.8 | Q26: 210.7 | R26: 229.1 | S26: 125.1 | T26: 114.2 | U26: 114.1
A27: 62 | C27: 7 | D27: 135.8 | E27: 136.7 | F27: 145.3 | G27: 94.2 | H27: 120.3 | I27: 128.6 | J27: 162.1 | K27: 123.5 | L27: 181.3 | M27: 142.7 | N27: 180.1 | O27: 113.6 | P27: 129.9 | Q27: 128.8 | R27: 104.6 | S27: 124.4 | T27: 117.7 | U27: 118.3
B31: （事業所規模３０人以上） | U31: =U4 -> 令和２年＝１００
D32: 現金給与総額 | T32: きまって支給 | U32: 所 定 内
T33: する給与 | U33: 給 与
D34: =+D7 -> 調査産業計 | E34: =+E7 -> 建設業 | F34: =+F7 -> 製造業 | G34: =+G7 -> 電気・ガス・熱供給・水道業 | H34: =+H7 -> 情報通信業 | I34: =+I7 -> 運輸業，郵便業 | J34: =+J7 -> 卸売業，小売業 | K34: =+K7 -> 金融業，保険業 | ... S34: =+S7 -> サービス業（他に分類されないもの） | T34: 調査産業計 | U34: 調査産業計
A35: =A8 -> 29 | B35: =B8 -> 令和元年平均 | D35: 97.7 | E35: 97.7 | F35: 97.7 | G35: 115.3 | H35: 96.4 | I35: 95.9 | J35: 90.1 | K35: 81.8 | L35: 94.2 | M35: 115 | N35: 105 | O35: 90.5 | P35: 99.4 | Q35: 97 | R35: 124.4 | S35: 94.6 | T35: 99.6 | U35: 99.5
A36: =A9 -> 30 | B36: =B9 -> 2 | D36: 100 | E36: 100 | F36: 100 | G36: 100 | H36: 100 | I36: 100 | J36: 100 | K36: 100 | L36: 100 | M36: 100 | N36: 100 | O36: 100 | P36: 100 | Q36: 100 | R36: 100 | S36: 100 | T36: 100 | U36: 100
A37: =A10 -> 1 | B37: =B10 -> 3 | D37: 99.6 | E37: 99.7 | F37: 102.9 | G37: 116.7 | H37: 143.1 | I37: 101.3 | J37: 95.1 | K37: 97.7 | L37: 90.8 | M37: 118 | N37: 90.4 | O37: 115.1 | P37: 113.9 | Q37: 90.5 | R37: 94.2 | S37: 102.9 | T37: 100.5 | U37: 99.4
A38: =A11 -> 2 | B38: =B11 -> 4 | D38: 102.9 | E38: 90.1 | F38: 113.2 | G38: 113 | H38: 168.4 | I38: 95.8 | J38: 88.1 | K38: 113 | L38: 123.5 | M38: 120.2 | N38: 90.2 | O38: 82.2 | P38: 127.3 | Q38: 92.5 | R38: 91.3 | S38: 102.1 | T38: 102.5 | U38: 101
A39: =A12 -> 3 | B39: =B12 -> 5 | D39: 101.7 | E39: 76.1 | F39: 111 | G39: 124.9 | H39: 159.3 | I39: 89.1 | J39: 91.8 | K39: x | L39: 128.9 | M39: 131.5 | N39: 96.4 | O39: 106.7 | P39: 124.8 | Q39: 91.6 | R39: 96.2 | S39: 96.6 | T39: 101.3 | U39: 100.9
A40: =A13 -> 4 | B40: =B13 -> 6 | D40: 104.6 | E40: 84.3 | F40: 114.9 | G40: 130.6 | H40: 122.8 | I40: 97.6 | J40: 94 | K40: 124.6 | L40: 131.3 | M40: 111.6 | N40: 80 | O40: 128.2 | P40: 117.7 | Q40: 99.9 | R40: 126.1 | S40: 95.3 | T40: 103.8 | U40: 103.5
A41: =A14 -> 5 | B41: =B14 -> 7 | D41: 110.4 | E41: 88 | F41: 112.4 | G41: 94.3 | H41: 124.2 | I41: 103 | J41: 101.2 | K41: 132 | L41: 103.8 | M41: 113.2 | N41: 96.4 | O41: 113.2 | P41: 147.7 | Q41: 108 | R41: X | S41: 101.7 | T41: 108.8 | U41: 108.8
A42: =A15 -> 52 | B42: =B15 -> 令和7年 | C42: =C15 -> 7 | D42: 115 | E42: 84 | F42: 122.8 | G42: 86.5 | H42: 124.5 | I42: 124.6 | J42: 140 | K42: 106.9 | L42: 121.1 | M42: 139.6 | N42: 105.7 | O42: 131.6 | P42: 118.5 | Q42: 109.1 | R42: X | S42: 112.8 | T42: 110.1 | U42: 110.6
A43: =A16 -> 53 | B43: =B16 | C43: =C16 -> 8 | D43: 93.8 | E43: 69.2 | F43: 101.4 | G43: 77.5 | H43: 97.6 | I43: 94.5 | J43: 95.8 | K43: 102 | L43: 92.2 | M43: 91.5 | N43: 91.2 | O43: 94.1 | P43: 107 | Q43: 90.6 | R43: X | S43: 98 | T43: 108.6 | U43: 109.2
A44: =A17 -> 54 | B44: =B17 | C44: =C17 -> 9 | D44: 91.7 | E44: 72.3 | F44: 96.6 | G44: 78 | H44: 98.4 | I44: 87.8 | J44: 89.8 | K44: 108.9 | L44: 78.5 | M44: 81.3 | N44: 85.4 | O44: 94.9 | P44: 110 | Q44: 89 | R44: X | S44: 96.4 | T44: 109.1 | U44: 109.8
...

Sheet 第２表
B2: 第２表 産業別実質賃金指数（令和８年７月）
B4: （事業所規模５人以上） | U4: 令和２年＝１００
D5: 現金給与総額 | T5: きまって支給 | U5: 所 定 内
T6: する給与 | U6: 給 与
D7: =+第１表!D7 -> 調査産業計 | E7: =+第１表!E7 -> 建設業 | F7: =+第１表!F7 -> 製造業 | G7: =+第１表!G7 -> 電気・ガス・熱供給・水道業 | H7: =+第１表!H7 -> 情報通信業 | I7: =+第１表!I7 -> 運輸業，郵便業 | J7: =+第１表!J7 -> 卸売業，小売業 | K7: =+第１表!K7 -> 金融業，保険業 | ... S7: =+第１表!S7 -> サービス業（他に分類されないもの） | T7: 調査産業計 | U7: 調査産業計
A8: =+第１表!A8 -> 29 | B8: =第１表!B8 -> 令和元年平均 | D8: 100.6 | E8: 103.7 | F8: 98.6 | G8: 108.5 | H8: 102.1 | I8: 95.7 | J8: 101.8 | K8: 104 | L8: 129.5 | M8: 101.5 | N8: 97 | O8: 84.2 | P8: 98.6 | Q8: 100.5 | R8: 121.7 | S8: 98.1 | T8: 101.3 | U8: 101.3
A9: =+第１表!A9 -> 30 | B9: =第１表!B9 -> 2 | D9: 100 | E9: 100 | F9: 100 | G9: 100 | H9: 100 | I9: 100 | J9: 100 | K9: 100 | L9: 100 | M9: 100 | N9: 100 | O9: 100 | P9: 100 | Q9: 100 | R9: 100 | S9: 100 | T9: 100 | U9: 100
A10: =+第１表!A10 -> 1 | B10: =第１表!B10 -> 3 | D10: 103.5 | E10: 100.7 | F10: 104.7 | G10: 111.1 | H10: 135.4 | I10: 101.9 | J10: 105.6 | K10: 107.1 | L10: 143.7 | M10: 98.5 | N10: 101.3 | O10: 120 | P10: 107.1 | Q10: 95 | R10: 101 | S10: 100.9 | T10: 102.7 | U10: 102.71
A11: =+第１表!A11 -> 2 | B11: =第１表!B11 -> 4 | D11: 101.9 | E11: 92.9 | F11: 111.2 | G11: 116.4 | H11: 149.3 | I11: 92.6 | J11: 105.7 | K11: 91.8 | L11: 123.1 | M11: 95 | N11: 108.1 | O11: 94 | P11: 110.5 | Q11: 95.9 | R11: 97.8 | S11: 88.4 | T11: 101.1 | U11: 100.6
A12: =+第１表!A12 -> 3 | B12: =第１表!B12 -> 5 | D12: 97.1 | E12: 86.5 | F12: 103.3 | G12: 119.1 | H12: 138.9 | I12: 86.4 | J12: 101.4 | K12: 102.4 | L12: 98.3 | M12: 99.8 | N12: 85.5 | O12: 102.9 | P12: 109.7 | Q12: 92.5 | R12: 92.7 | S12: 87.9 | T12: 96.5 | U12: 96.4
A13: =+第１表!A13 -> 4 | B13: =第１表!B13 -> 6 | D13: 99.5 | E13: 92.3 | F13: 104.8 | G13: 112.9 | H13: 110.3 | I13: 85.4 | J13: 116 | K13: 111.1 | L13: 131 | M13: 91.4 | N13: 80.9 | O13: 109.2 | P13: 104.4 | Q13: 97.2 | R13: 102.3 | S13: 83.9 | T13: 96.9 | U13: 96.7
A14: =+第１表!A14 -> 5 | B14: =第１表!B14 -> 7 | D14: 97.9 | E14: 99.5 | F14: 100.8 | G14: 85.3 | H14: 130 | I14: 92.6 | J14: 99.4 | K14: 110.6 | L14: 148.6 | M14: 109.9 | N14: 106.7 | O14: 92.2 | P14: 106.7 | Q14: 99.5 | R14: 96 | S14: 76.1 | T14: 94.7 | U14: 94.6
A15: =+第１表!A15 -> 52 | B15: 令和7年 | C15: 7 | D15: 106.1 | E15: 119.3 | F15: 109.2 | G15: 76 | H15: 114 | I15: 110 | J15: 118.5 | K15: 95.6 | L15: 207.7 | M15: 145.8 | N15: 127.7 | O15: 114.6 | P15: 88.5 | Q15: 106.2 | R15: 80.1 | S15: 80.8 | T15: 95.8 | U15: 96.133565
A16: =+第１表!A16 -> 53 | C16: 8 | D16: 85.3 | E16: 100.4 | F16: 93.6 | G16: 67.7 | H16: 98 | I16: 77.7 | J16: 86.1 | K16: 87 | L16: 166.5 | M16: 80.9 | N16: 114.9 | O16: 83.1 | P16: 78.1 | Q16: 84.9 | R16: 74.5 | S16: 75.2 | T16: 93.6 | U16: 93.96853
A17: =+第１表!A17 -> 54 | C17: 9 | D17: 83 | E17: 79.5 | F17: 87.1 | G17: 68.2 | H17: 100.3 | I17: 72.4 | J17: 86 | K17: 88.6 | L17: 125.4 | M17: 140.5 | N17: 106.3 | O17: 79.5 | P17: 81 | Q17: 83.5 | R17: 73.8 | S17: 68.2 | T17: 94.1 | U17: 94.493006
A18: =+第１表!A18 -> 55 | C18: 10 | D18: 80.2 | E18: 79 | F18: 84.1 | G18: 66.1 | H18: 102.6 | I18: 71.8 | J18: 84.3 | K18: 90.5 | L18: 110.2 | M18: 79.8 | N18: 101.6 | O18: 94.2 | P18: 83.4 | Q18: 81.2 | R18: 74.5 | S18: 64.4 | T18: 93.7 | U18: 93.674176
A19: =+第１表!A19 -> 56 | C19: 11 | D19: 87.8 | E19: 115.3 | F19: 105.7 | G19: 88 | H19: 106.5 | I19: 71.4 | J19: 83.7 | K19: 106 | L19: 122.9 | M19: 77.9 | N19: 110.8 | O19: 86.5 | P19: 82.1 | Q19: 83.8 | R19: 69.4 | S19: 72.9 | T19: 93.5 | U19: 93.189655
A20: =+第１表!A20 -> 57 | C20: 12 | D20: 172.2 | E20: 161.4 | F20: 164.8 | G20: 95.3 | H20: 282.5 | I20: 164.6 | J20: 138.4 | K20: 215.5 | L20: 245.2 | M20: 256.2 | N20: 130.9 | O20: 123.9 | P20: 240.9 | Q20: 195 | R20: 194.4 | S20: 99 | T20: 95.8 | U20: 95.836945
A21: =+第１表!A21 -> 58 | B21: 令和8年 | C21: 1 | D21: 85.5 | E21: 80.3 | F21: 83.6 | G21: 74.2 | H21: 99.4 | I21: 70.3 | J21: 90.3 | K21: 88.5 | L21: 116.7 | M21: 83.6 | N21: 87.9 | O21: 83.8 | P21: 86.5 | Q21: 96.4 | R21: 87.5 | S21: 73.7 | T21: 98.4 | U21: 98.177086
A22: =+第１表!A22 -> 59 | C22: 2 | D22: 83.5 | E22: 90.1 | F22: 82.5 | G22: 74.7 | H22: 99.2 | I22: 71.5 | J22: 88 | K22: 90.2 | L22: 110.6 | M22: 84.4 | N22: 91.1 | O22: 75.3 | P22: 87.4 | Q22: 86.2 | R22: 87.2 | S22: 73.3 | T22: 97 | U22: 96.768559
A23: =+第１表!A23 -> 510 | C23: 3 | D23: 90 | E23: 86.8 | F23: 85.1 | G23: 78 | H23: 99 | I23: 77 | J23: 89.1 | K23: 118.1 | L23: 146.3 | M23: 82.4 | N23: 93.1 | O23: 86.7 | P23: 99.2 | Q23: 96.4 | R23: 86.5 | S23: 86.2 | T23: 98.2 | U23: 98.263891
A24: =+第１表!A24 -> 511 | C24: 4 | D24: 87 | E24: 90.1 | F24: 90.4 | G24: 81.2 | H24: 94.8 | I24: 77.8 | J24: 90.6 | K24: 95 | L24: 114.9 | M24: 112.2 | N24: 98.7 | O24: 79.1 | P24: 83.6 | Q24: 85.6 | R24: 87.8 | S24: 81.3 | T24: 99.4 | U24: 99.562936
A25: =+第１表!A25 -> 512 | C25: 5 | D25: 86.4 | E25: 83.6 | F25: 94.2 | G25: 78.5 | H25: 103.8 | I25: 76.8 | J25: 89.7 | K25: 97 | L25: 134.7 | M25: 84.6 | N25: 114.6 | O25: 81.9 | P25: 85.2 | Q25: 85.1 | R25: 87.3 | S25: 78 | T25: 98.5 | U25: 98.613517
A26: =+第１表!A26 -> 61 | C26: 6 | D26: 149.2 | E26: 90.3 | F26: 139.4 | G26: 226 | H26: 232 | I26: 129 | J26: 103.7 | K26: 241.7 | L26: 177.1 | M26: 136.9 | N26: 112.2 | O26: 108.3 | P26: 247.2 | Q26: 183.5 | R26: 199.6 | S26: 109 | T26: 99.5 | U26: 99.390241
A27: =+第１表!A27 -> 62 | C27: 7 | D27: 117.4 | E27: 118.2 | F27: 125.6 | G27: 81.4 | H27: 104 | I27: 111.1 | J27: 140.1 | K27: 106.7 | L27: 156.7 | M27: 123.3 | N27: 155.7 | O27: 98.2 | P27: 112.3 | Q27: 111.3 | R27: 90.4 | S27: 107.5 | T27: 101.7 | U27: 102.24719
B31: （事業所規模３０人以上） | U31: =U4 -> 令和２年＝１００
D32: 現金給与総額 | T32: きまって支給 | U32: 所 定 内
T33: する給与 | U33: 給 与
D34: =+D7 -> 調査産業計 | E34: =+E7 -> 建設業 | F34: =+F7 -> 製造業 | G34: =+G7 -> 電気・ガス・熱供給・水道業 | H34: =+H7 -> 情報通信業 | I34: =+I7 -> 運輸業，郵便業 | J34: =+J7 -> 卸売業，小売業 | K34: =+K7 -> 金融業，保険業 | ... S34: =+S7 -> サービス業（他に分類されないもの） | T34: 調査産業計 | U34: 調査産業計
A35: =第１表!A35 -> 29 | B35: =第２表!B8 -> 令和元年平均 | D35: 97.7 | E35: 97.7 | F35: 97.7 | G35: 115.3 | H35: 96.4 | I35: 95.9 | J35: 90.1 | K35: 81.8 | L35: 94.2 | M35: 115 | N35: 105 | O35: 90.5 | P35: 99.4 | Q35: 97 | R35: 124.4 | S35: 94.6 | T35: 99.6 | U35: 99.5
A36: =第１表!A36 -> 30 | B36: =第１表!B36 -> 2 | D36: 100 | E36: 100 | F36: 100 | G36: 100 | H36: 100 | I36: 100 | J36: 100 | K36: 100 | L36: 100 | M36: 100 | N36: 100 | O36: 100 | P36: 100 | Q36: 100 | R36: 100 | S36: 100 | T36: 100 | U36: 100
A37: =第１表!A37 -> 1 | B37: =第１表!B37 -> 3 | D37: 100.1 | E37: 100.2 | F37: 103.4 | G37: 117.3 | H37: 143.8 | I37: 101.8 | J37: 95.6 | K37: 98.2 | L37: 91.3 | M37: 118.6 | N37: 90.9 | O37: 115.7 | P37: 114.5 | Q37: 91 | R37: 94.7 | S37: 103.4 | T37: 101 | U37: 99.899
A38: =第１表!A38 -> 2 | B38: =第１表!B38 -> 4 | D38: 100.8 | E38: 88.2 | F38: 110.9 | G38: 110.7 | H38: 164.9 | I38: 93.8 | J38: 86.3 | K38: 110.7 | L38: 121 | M38: 117.7 | N38: 88.3 | O38: 80.5 | P38: 124.7 | Q38: 90.6 | R38: 89.4 | S38: 100 | T38: 100.4 | U38: 98.9
A39: =第１表!A39 -> 3 | B39: =第１表!B39 -> 5 | D39: 96.2 | E39: 72 | F39: 105 | G39: 118.2 | H39: 150.7 | I39: 84.3 | J39: 86.8 | K39: x | L39: 121.9 | M39: 124.4 | N39: 91.2 | O39: 100.9 | P39: 118.1 | Q39: 86.7 | R39: 91 | S39: 91.4 | T39: 95.8 | U39: 95.5
A40: =第１表!A40 -> 4 | B40: =第１表!B40 -> 6 | D40: 95.4 | E40: 76.9 | F40: 104.8 | G40: 119.2 | H40: 112 | I40: 89.1 | J40: 85.8 | K40: 113.7 | L40: 119.8 | M40: 101.8 | N40: 73 | O40: 117 | P40: 107.4 | Q40: 91.1 | R40: 115.1 | S40: 87 | T40: 94.7 | U40: 94.4
A41: =第１表!A41 -> 5 | B41: =第１表!B41 -> 7 | D41: 96.8 | E41: 77.1 | F41: 98.5 | G41: 82.6 | H41: 108.9 | I41: 90.3 | J41: 88.7 | K41: 115.7 | L41: 91 | M41: 99.2 | N41: 84.5 | O41: 99.2 | P41: 129.4 | Q41: 94.7 | R41: X | S41: 89.1 | T41: 95.4 | U41: 95.4
A42: =第１表!A42 -> 52 | B42: =第１表!B42 -> 令和7年 | C42: =第１表!C42 -> 7 | D42: 101.1 | E42: 73.8 | F42: 107.9 | G42: 76 | H42: 109.4 | I42: 109.5 | J42: 123 | K42: 93.9 | L42: 106.4 | M42: 122.7 | N42: 92.9 | O42: 115.6 | P42: 104.1 | Q42: 95.9 | R42: X | S42: 99.1 | T42: 96.7 | U42: 97.188047
A43: =第１表!A43 -> 53 | B43: =第１表!B43 | C43: =第１表!C43 -> 8 | D43: 82 | E43: 60.5 | F43: 88.6 | G43: 67.7 | H43: 85.3 | I43: 82.6 | J43: 83.7 | K43: 89.2 | L43: 80.6 | M43: 80 | N43: 79.7 | O43: 82.3 | P43: 93.5 | Q43: 79.2 | R43: X | S43: 85.7 | T43: 94.9 | U43: 95.454544
A44: =第１表!A44 -> 54 | B44: =第１表!B44 | C44: =第１表!C44 -> 9 | D44: 80.2 | E44: 63.2 | F44: 84.4 | G44: 68.2 | H44: 86 | I44: 76.7 | J44: 78.5 | K44: 95.2 | L44: 68.6 | M44: 71.1 | N44: 74.7 | O44: 83 | P44: 96.2 | Q44: 77.8 | R44: X | S44: 84.3 | T44: 95.4 | U44: 95.97902
A45: =第１表!A45 -> 55 | B45: =第１表!B45 | C45: =第１表!C45 -> 10 | D45: 79.5 | E45: 60.1 | F45: 82.2 | G45: 66.1 | H45: 87.9 | I45: 78.2 | J45: 79.5 | K45: 88.1 | L45: 72.7 | M45: 72 | N45: 80.1 | O45: 99.3 | P45: 98.8 | Q45: 76 | R45: X | S45: 80.4 | T45: 95.2 | U45: 95.060657
...

Sheet 第３表
B2: 第３表 産業別労働時間指数（令和８年７月）
B4: （事業所規模５人以上） | U4: 令和２年＝１００
D5: 総実労働時間指数 | T5: 所 定 外
T6: 労働時間指数
D7: =+第１表!D7 -> 調査産業計 | E7: =+第１表!E7 -> 建設業 | F7: =+第１表!F7 -> 製造業 | G7: =+第１表!G7 -> 電気・ガス・熱供給・水道業 | H7: =+第１表!H7 -> 情報通信業 | I7: =+第１表!I7 -> 運輸業，郵便業 | J7: =+第１表!J7 -> 卸売業，小売業 | K7: =+第１表!K7 -> 金融業，保険業 | ... S7: =+第１表!S7 -> サービス業（他に分類されないもの） | T7: 調査産業計 | U7: 製造業
A8: =第１表!A8 -> 29 | B8: =第１表!B8 -> 令和元年平均 | D8: 100.8 | E8: 106.5 | F8: 103.3 | G8: 99.1 | H8: 104.9 | I8: 94.3 | J8: 98 | K8: 96.2 | L8: 123 | M8: 105.9 | N8: 104 | O8: 88.5 | P8: 97.5 | Q8: 103.5 | R8: 96.2 | S8: 101 | T8: 106.8 | U8: 114.6
A9: =第１表!A9 -> 30 | B9: =第１表!B9 -> 2 | D9: 100 | E9: 100 | F9: 100 | G9: 100 | H9: 100 | I9: 100 | J9: 100 | K9: 100 | L9: 100 | M9: 100 | N9: 100 | O9: 100 | P9: 100 | Q9: 100 | R9: 100 | S9: 100 | T9: 100 | U9: 100
A10: =第１表!A10 -> 1 | B10: =第１表!B10 -> 3 | D10: 100.5 | E10: 102.7 | F10: 102.4 | G10: 102.2 | H10: 102.3 | I10: 96.1 | J10: 97.1 | K10: 99 | L10: 129 | M10: 98.7 | N10: 104.5 | O10: 118.6 | P10: 106.9 | Q10: 96.9 | R10: 98.3 | S10: 97.8 | T10: 101.6 | U10: 125.4
A11: =第１表!A11 -> 2 | B11: =第１表!B11 -> 4 | D11: 100.3 | E11: 101.3 | F11: 101.3 | G11: 96.5 | H11: 102 | I11: 96.5 | J11: 96.8 | K11: 91.8 | L11: 114.2 | M11: 96.9 | N11: 113.9 | O11: 100.3 | P11: 115.7 | Q11: 98.5 | R11: 97 | S11: 98.3 | T11: 112.3 | U11: 117.5
A12: =第１表!A12 -> 3 | B12: =第１表!B12 -> 5 | D12: 98.2 | E12: 100.3 | F12: 99.8 | G12: 103.8 | H12: 105.1 | I12: 95.7 | J12: 94.8 | K12: 96.7 | L12: 93.7 | M12: 99.5 | N12: 93.3 | O12: 98.8 | P12: 112.5 | Q12: 99.4 | R12: 97.3 | S12: 97.3 | T12: 110.6 | U12: 114
A13: =第１表!A13 -> 4 | B13: =第１表!B13 -> 6 | D13: 97.3 | E13: 98 | F13: 100.6 | G13: 101.2 | H13: 102.4 | I13: 92.8 | J13: 96 | K13: 98.7 | L13: 120.3 | M13: 95.5 | N13: 91.9 | O13: 113.2 | P13: 102.7 | Q13: 98.9 | R13: 93.8 | S13: 92.9 | T13: 101.3 | U13: 104.9
A14: =第１表!A14 -> 5 | B14: =第１表!B14 -> 7 | D14: 96.2 | E14: 98.5 | F14: 100.8 | G14: 100.9 | H14: 99.3 | I14: 91.3 | J14: 92.5 | K14: 98.9 | L14: 126 | M14: 102.3 | N14: 106.3 | O14: 104.7 | P14: 99.3 | Q14: 99 | R14: 92.1 | S14: 86.6 | T14: 84.1 | U14: 96.3
A15: =第１表!A15 -> 52 | B15: =第１表!B15 -> 令和7年 | C15: =第１表!C15 -> 7 | D15: 101.4 | E15: 105 | F15: 102.4 | G15: 107.8 | H15: 107.1 | I15: 97.7 | J15: 95.4 | K15: 107.7 | L15: 138.7 | M15: 108.4 | N15: 120.5 | O15: 115.4 | P15: 107.3 | Q15: 104.4 | R15: 97 | S15: 92.1 | T15: 90.5 | U15: 91.7
A16: =第１表!A16 -> 53 | B16: =第１表!B16 | C16: =第１表!C16 -> 8 | D16: 93.1 | E16: 88.7 | F16: 92.6 | G16: 95.4 | H16: 94.4 | I16: 96 | J16: 90.3 | K16: 94.4 | L16: 120 | M16: 89.3 | N16: 115.9 | O16: 98.6 | P16: 87.2 | Q16: 99.2 | R16: 85.4 | S16: 85.2 | T16: 78.6 | U16: 89
A17: =第１表!A17 -> 54 | B17: =第１表!B17 | C17: =第１表!C17 -> 9 | D17: 96.2 | E17: 100.7 | F17: 101.7 | G17: 98.9 | H17: 95.1 | I17: 89.9 | J17: 92 | K17: 95.6 | L17: 114.2 | M17: 100.9 | N17: 115.2 | O17: 101.6 | P17: 101.1 | Q17: 97.8 | R17: 85.8 | S17: 85.8 | T17: 76.2 | U17: 91.7
A18: =第１表!A18 -> 55 | B18: =第１表!B18 | C18: =第１表!C18 -> 10 | D18: 97.9 | E18: 106.7 | F18: 103.1 | G18: 104.8 | H18: 104.6 | I18: 78.5 | J18: 92.2 | K18: 102.9 | L18: 120.9 | M18: 105.3 | N18: 111.4 | O18: 108.4 | P18: 114.2 | Q18: 99.9 | R18: 93.9 | S18: 87.5 | T18: 85.7 | U18: 100
A19: =第１表!A19 -> 56 | C19: =第１表!C19 -> 11 | D19: 94.8 | E19: 98.7 | F19: 104.2 | G19: 96.6 | H19: 97.8 | I19: 86.8 | J19: 90.1 | K19: 89.8 | L19: 122.1 | M19: 100.7 | N19: 112 | O19: 94.8 | P19: 96 | Q19: 97.6 | R19: 83.5 | S19: 82.9 | T19: 90.5 | U19: 109.2
A20: =第１表!A20 -> 57 | C20: =第１表!C20 -> 12 | D20: 96.9 | E20: 101.2 | F20: 103.3 | G20: 95 | H20: 108 | I20: 93.1 | J20: 90.5 | K20: 100.6 | L20: 130.1 | M20: 99.1 | N20: 113.1 | O20: 105.3 | P20: 99.2 | Q20: 98.9 | R20: 97.3 | S20: 86.1 | T20: 84.5 | U20: 107.3
A21: =第１表!A21 -> 58 | B21: =第１表!B21 -> 令和8年 | C21: =第１表!C21 -> 1 | D21: 93.4 | E21: 94.1 | F21: 94.9 | G21: 93.8 | H21: 96.8 | I21: 88 | J21: 90.8 | K21: 95.5 | L21: 112.5 | M21: 93.7 | N21: 99.6 | O21: 98.8 | P21: 94.7 | Q21: 100.2 | R21: 89 | S21: 86.9 | T21: 83.3 | U21: 95.4
A22: =第１表!A22 -> 59 | B22: =第１表!B22 | C22: =第１表!C22 -> 2 | D22: 92.7 | E22: 100 | F22: 98.6 | G22: 90.5 | H22: 92.9 | I22: 85.7 | J22: 91.2 | K22: 90.6 | L22: 115.1 | M22: 93.5 | N22: 97.8 | O22: 89.3 | P22: 97.1 | Q22: 95.8 | R22: 84.8 | S22: 83.6 | T22: 84.5 | U22: 102.8
A23: =第１表!A23 -> 510 | B23: =第１表!B23 | C23: =第１表!C23 -> 3 | D23: 96.6 | E23: 102.5 | F23: 100 | G23: 100.7 | H23: 103.8 | I23: 90 | J23: 89.4 | K23: 97.4 | L23: 141.4 | M23: 98.4 | N23: 100 | O23: 95.2 | P23: 108.9 | Q23: 100.4 | R23: 97.6 | S23: 92.4 | T23: 85.7 | U23: 99.1
A24: =第１表!A24 -> 511 | B24: =第１表!B24 | C24: =第１表!C24 -> 4 | D24: 100 | E24: 99.6 | F24: 104.7 | G24: 106.2 | H24: 98.7 | I24: 91.7 | J24: 95.5 | K24: 107.2 | L24: 120.6 | M24: 106.3 | N24: 103.1 | O24: 95.4 | P24: 108.6 | Q24: 105.3 | R24: 100.7 | S24: 92.1 | T24: 85.7 | U24: 106.4
A25: =第１表!A25 -> 512 | B25: =第１表!B25 | C25: =第１表!C25 -> 5 | D25: 94 | E25: 93 | F25: 95.3 | G25: 92.9 | H25: 92.7 | I25: 91.6 | J25: 92.5 | K25: 96 | L25: 103.5 | M25: 92.8 | N25: 120.7 | O25: 96.4 | P25: 92.8 | Q25: 95.7 | R25: 85.5 | S25: 86.8 | T25: 84.5 | U25: 92.7
A26: =第１表!A26 -> 61 | B26: =第１表!B26 | C26: =第１表!C26 -> 6 | D26: 99.3 | E26: 102.5 | F26: 105.2 | G26: 112.2 | H26: 96.1 | I26: 90.8 | J26: 93.6 | K26: 104.8 | L26: 122.6 | M26: 100.7 | N26: 114.1 | O26: 93.7 | P26: 108 | Q26: 105.4 | R26: 96 | S26: 84.4 | T26: 82.1 | U26: 99.1
A27: =第１表!A27 -> 62 | B27: =第１表!B27 | C27: =第１表!C27 -> 7 | D27: 101.5 | E27: 106.2 | F27: 103.3 | G27: 107.4 | H27: 104.1 | I27: 93.9 | J27: 93.1 | K27: 107.5 | L27: 159.6 | M27: 104.3 | N27: 128.6 | O27: 100.3 | P27: 105.6 | Q27: 103.7 | R27: 102.7 | S27: 99 | T27: 88.1 | U27: 100
B31: （事業所規模３０人以上） | U31: =U4 -> 令和２年＝１００
D32: 総実労働時間指数 | T32: 所 定 外
T33: 労働時間指数
D34: =+D7 -> 調査産業計 | E34: =+E7 -> 建設業 | F34: =+F7 -> 製造業 | G34: =+G7 -> 電気・ガス・熱供給・水道業 | H34: =+H7 -> 情報通信業 | I34: =+I7 -> 運輸業，郵便業 | J34: =+J7 -> 卸売業，小売業 | K34: =+K7 -> 金融業，保険業 | ... S34: =+S7 -> サービス業（他に分類されないもの） | T34: 調査産業計 | U34: 製造業
A35: =第１表!A35 -> 29 | B35: =B8 -> 令和元年平均 | D35: 101.2 | E35: 97.6 | F35: 102.8 | G35: 100.2 | H35: 101.4 | I35: 99.3 | J35: 98.6 | K35: 91.8 | L35: 102.3 | M35: 103.6 | N35: 115.8 | O35: 90.7 | P35: 104.1 | Q35: 100.2 | R35: 95.2 | S35: 103.7 | T35: 110.8 | U35: 113.7
A36: =第１表!A36 -> 30 | B36: =第１表!B36 -> 2 | D36: 100 | E36: 100 | F36: 100 | G36: 100 | H36: 100 | I36: 100 | J36: 100 | K36: 100 | L36: 100 | M36: 100 | N36: 100 | O36: 100 | P36: 100 | Q36: 100 | R36: 100 | S36: 100 | T36: 100 | U36: 100
A37: =第１表!A37 -> 1 | B37: =第１表!B37 -> 3 | D37: 100.7 | E37: 104.8 | F37: 102.2 | G37: 95.2 | H37: 103.3 | I37: 100 | J37: 103.2 | K37: 99.4 | L37: 94.6 | M37: 101.7 | N37: 88 | O37: 114.2 | P37: 110.7 | Q37: 95.8 | R37: 100.7 | S37: 101.4 | T37: 116 | U37: 122.9
A38: =第１表!A38 -> 2 | B38: =第１表!B38 -> 4 | D38: 100 | E38: 104.6 | F38: 100.3 | G38: 94.2 | H38: 100.3 | I38: 104 | J38: 94.2 | K38: 105.1 | L38: 96.9 | M38: 102.7 | N38: 93.4 | O38: 91.3 | P38: 124.9 | Q38: 94.8 | R38: 100.6 | S38: 103.2 | T38: 133.7 | U38: 119.4
A39: =第１表!A39 -> 3 | B39: =第１表!B39 -> 5 | D39: 99.2 | E39: 101.1 | F39: 99.8 | G39: 104.2 | H39: 104.7 | I39: 96.9 | J39: 93.5 | K39: x | L39: 104.8 | M39: 103.8 | N39: 96.2 | O39: 110.9 | P39: 120.8 | Q39: 95.1 | R39: 97.2 | S39: 101.4 | T39: 117.5 | U39: 108.6
A40: =第１表!A40 -> 4 | B40: =第１表!B40 -> 6 | D40: 97.5 | E40: 100.1 | F40: 100.2 | G40: 101.1 | H40: 98.3 | I40: 99.8 | J40: 91 | K40: 102.3 | L40: 103.2 | M40: 100.9 | N40: 77.2 | O40: 127.6 | P40: 110.1 | Q40: 94.4 | R40: 93.4 | S40: 95.9 | T40: 105.6 | U40: 99.1
A41: =第１表!A41 -> 5 | B41: =第１表!B41 -> 7 | D41: 97.5 | E41: 101.5 | F41: 100 | G41: 100.3 | H41: 94.8 | I41: 102.1 | J41: 92.8 | K41: 104.6 | L41: 89.8 | M41: 98.6 | N41: 81.3 | O41: 115.5 | P41: 112.3 | Q41: 94.6 | R41: X | S41: 94.4 | T41: 96.4 | U41: 95.2
A42: =第１表!A42 -> 52 | B42: =第１表!B42 -> 令和7年 | C42: =第１表!C42 -> 7 | D42: 102 | E42: 103.2 | F42: 102 | G42: 107.8 | H42: 102.1 | I42: 109.4 | J42: 94.4 | K42: 112.9 | L42: 92.7 | M42: 109.2 | N42: 80.3 | O42: 124.5 | P42: 119.9 | Q42: 100.5 | R42: X | S42: 101.7 | T42: 92.3 | U42: 90.2
A43: =第１表!A43 -> 53 | B43: =第１表!B43 | C43: =第１表!C43 -> 8 | D43: 93.5 | E43: 83.4 | F43: 92.1 | G43: 95.4 | H43: 89.9 | I43: 105.3 | J43: 92 | K43: 99.1 | L43: 80.4 | M43: 86.5 | N43: 83.3 | O43: 104.3 | P43: 99.3 | Q43: 95.1 | R43: X | S43: 94.1 | T43: 86.8 | U43: 85.2
A44: =第１表!A44 -> 54 | B44: =第１表!B44 | C44: =第１表!C44 -> 9 | D44: 96.7 | E44: 101.2 | F44: 101.3 | G44: 98.9 | H44: 90.1 | I44: 100.2 | J44: 93 | K44: 101.7 | L44: 84.6 | M44: 97.5 | N44: 72.8 | O44: 107.2 | P44: 112.9 | Q44: 91.4 | R44: X | S44: 96.2 | T44: 87.9 | U44: 90.2
A45: =第１表!A45 -> 55 | B45: =第１表!B45 | C45: =第１表!C45 -> 10 | D45: 98.7 | E45: 106.1 | F45: 102.9 | G45: 104.8 | H45: 97.5 | I45: 81.5 | J45: 92.7 | K45: 111.5 | L45: 98.8 | M45: 98.5 | N45: 79.6 | O45: 126 | P45: 129 | Q45: 93.5 | R45: X | S45: 97.4 | T45: 101.1 | U45: 99.2
...

Sheet 第４表
B2: 第４表 産業別常用雇用指数（令和８年７月）
B4: （事業所規模５人以上） | S4: 令和２年＝１００ | T4: 令和２年＝１００
D5: 常用雇用指数
D7: =+第１表!D7 -> 調査産業計 | E7: =+第１表!E7 -> 建設業 | F7: =+第１表!F7 -> 製造業 | G7: =+第１表!G7 -> 電気・ガス・熱供給・水道業 | H7: =+第１表!H7 -> 情報通信業 | I7: =+第１表!I7 -> 運輸業，郵便業 | J7: =+第１表!J7 -> 卸売業，小売業 | K7: =+第１表!K7 -> 金融業，保険業 | ... S7: =+第１表!S7 -> サービス業（他に分類されないもの）
A8: =第１表!A8 -> 29 | B8: =第１表!B8 -> 令和元年平均 | D8: 100.6 | E8: 100.2 | F8: 100.1 | G8: 218.9 | H8: 99.1 | I8: 102.8 | J8: 97.6 | K8: 98.8 | L8: 103.9 | M8: 104.3 | N8: 111.3 | O8: 101.9 | P8: 100.3 | Q8: 100.8 | R8: 100.8 | S8: 94.1
A9: =第１表!A9 -> 30 | B9: =第１表!B9 -> 2 | D9: 100 | E9: 100 | F9: 100 | G9: 100 | H9: 100 | I9: 100 | J9: 100 | K9: 100 | L9: 100 | M9: 100 | N9: 100 | O9: 100 | P9: 100 | Q9: 100 | R9: 100 | S9: 100
A10: =第１表!A10 -> 1 | B10: =第１表!B10 -> 3 | D10: 97.4 | E10: 89.9 | F10: 97.3 | G10: 183.1 | H10: 99.8 | I10: 103 | J10: 99.6 | K10: 99.6 | L10: 94 | M10: 103.2 | N10: 91 | O10: 93.1 | P10: 102.5 | Q10: 93.9 | R10: 96.4 | S10: 103.3
A11: =第１表!A11 -> 2 | B11: =第１表!B11 -> 4 | D11: 99.5 | E11: 87.5 | F11: 99.6 | G11: 192.8 | H11: 95.4 | I11: 107.5 | J11: 99.1 | K11: 98 | L11: 87.1 | M11: 104.2 | N11: 91.1 | O11: 94.6 | P11: 108.9 | Q11: 100.4 | R11: 95 | S11: 102.3
A12: =第１表!A12 -> 3 | B12: =第１表!B12 -> 5 | D12: 101.4 | E12: 89.7 | F12: 99.5 | G12: 164.9 | H12: 91.8 | I12: 105.3 | J12: 103.2 | K12: 96.1 | L12: 86.7 | M12: 108.8 | N12: 109.2 | O12: 92.5 | P12: 110.2 | Q12: 101.5 | R12: 97 | S12: 97.9
A13: =第１表!A13 -> 4 | B13: =第１表!B13 -> 6 | D13: 103.1 | E13: 88.3 | F13: 99.2 | G13: 192.5 | H13: 95 | I13: 106.9 | J13: 109.8 | K13: 95.9 | L13: 84 | M13: 113.6 | N13: 118 | O13: 86.2 | P13: 109.6 | Q13: 102.1 | R13: 94.6 | S13: 95.5
A14: =第１表!A14 -> 5 | B14: =第１表!B14 -> 7 | D14: 102.5 | E14: 87.8 | F14: 93.9 | G14: 160.8 | H14: 68.6 | I14: 110.2 | J14: 111.1 | K14: 98 | L14: 74 | M14: 110.6 | N14: 129.8 | O14: 89.4 | P14: 110.7 | Q14: 101.1 | R14: 64.5 | S14: 96
A15: =第１表!A15 -> 52 | B15: =第１表!B15 -> 令和7年 | C15: =第１表!C15 -> 7 | D15: 102.5 | E15: 87 | F15: 95.8 | G15: 127.6 | H15: 60.6 | I15: 104.2 | J15: 110.1 | K15: 101.1 | L15: 76.9 | M15: 111.4 | N15: 138.5 | O15: 88.9 | P15: 110.1 | Q15: 100.8 | R15: 58.9 | S15: 95.6
A16: =第１表!A16 -> 53 | B16: =第１表!B16 | C16: =第１表!C16 -> 8 | D16: 102.8 | E16: 87.1 | F16: 95.9 | G16: 127.6 | H16: 59.3 | I16: 109.2 | J16: 112.1 | K16: 100.9 | L16: 75.2 | M16: 111.4 | N16: 135.1 | O16: 87.9 | P16: 110.6 | Q16: 100.5 | R16: 58.9 | S16: 95.3
A17: =第１表!A17 -> 54 | B17: =第１表!B17 | C17: =第１表!C17 -> 9 | D17: 103 | E17: 87.5 | F17: 95 | G17: 129 | H17: 58.9 | I17: 118.2 | J17: 111.1 | K17: 97.6 | L17: 75 | M17: 112 | N17: 137.2 | O17: 88.3 | P17: 109.8 | Q17: 100.6 | R17: 58.9 | S17: 95
A18: =第１表!A18 -> 55 | B18: =第１表!B18 | C18: =第１表!C18 -> 10 | D18: 102.2 | E18: 88.7 | F18: 94.7 | G18: 130.1 | H18: 58.5 | I18: 106.1 | J18: 112.1 | K18: 98.3 | L18: 71.1 | M18: 111.7 | N18: 132.5 | O18: 87.3 | P18: 108.9 | Q18: 100.2 | R18: 59.7 | S18: 95.2
A19: =第１表!A19 -> 56 | C19: =第１表!C19 -> 11 | D19: 102.3 | E19: 89.2 | F19: 94.2 | G19: 128.5 | H19: 58.2 | I19: 114.6 | J19: 111.4 | K19: 98.6 | L19: 69.9 | M19: 111.4 | N19: 128.9 | O19: 88.4 | P19: 111.3 | Q19: 100.2 | R19: 59.7 | S19: 95.3
A20: =第１表!A20 -> 57 | C20: =第１表!C20 -> 12 | D20: 103.3 | E20: 92.1 | F20: 95.2 | G20: 127 | H20: 89.8 | I20: 112.1 | J20: 111.6 | K20: 96.4 | L20: 70.3 | M20: 111.1 | N20: 132.3 | O20: 84.6 | P20: 114.1 | Q20: 100.3 | R20: 59.7 | S20: 95.8
A21: =第１表!A21 -> 58 | B21: =第１表!B21 -> 令和8年 | C21: =第１表!C21 -> 1 | D21: 102.2 | E21: 94.3 | F21: 89.7 | G21: 127 | H21: 89.1 | I21: 103.9 | J21: 112.2 | K21: 96.3 | L21: 70 | M21: 112.7 | N21: 131 | O21: 84.8 | P21: 112.8 | Q21: 99.5 | R21: 59.6 | S21: 97.6
A22: =第１表!A22 -> 59 | B22: =第１表!B22 | C22: =第１表!C22 -> 2 | D22: 102.4 | E22: 96.9 | F22: 90.4 | G22: 126.6 | H22: 90.3 | I22: 103.2 | J22: 112.5 | K22: 95.9 | L22: 70 | M22: 112.5 | N22: 128.2 | O22: 84.8 | P22: 111.9 | Q22: 99.9 | R22: 58.3 | S22: 98.4
A23: =第１表!A23 -> 510 | B23: =第１表!B23 | C23: =第１表!C23 -> 3 | D23: 101.4 | E23: 97.7 | F23: 90.1 | G23: 70.3 | H23: 89.3 | I23: 101.7 | J23: 111.3 | K23: 96.2 | L23: 72.8 | M23: 112.5 | N23: 122.3 | O23: 84.7 | P23: 111.6 | Q23: 99.8 | R23: 58.8 | S23: 97.5
A24: =第１表!A24 -> 511 | B24: =第１表!B24 | C24: =第１表!C24 -> 4 | D24: 102.5 | E24: 97.2 | F24: 89.4 | G24: 125.6 | H24: 88 | I24: 109 | J24: 111.9 | K24: 98.8 | L24: 71.3 | M24: 112.4 | N24: 119.4 | O24: 84.3 | P24: 115.3 | Q24: 101.4 | R24: 65.8 | S24: 98.6
A25: =第１表!A25 -> 512 | B25: =第１表!B25 | C25: =第１表!C25 -> 5 | D25: 102.8 | E25: 96.9 | F25: 91.2 | G25: 126.2 | H25: 56.2 | I25: 111.9 | J25: 113.6 | K25: 99 | L25: 72.1 | M25: 113.5 | N25: 121.9 | O25: 84.6 | P25: 107.8 | Q25: 100.9 | R25: 67.4 | S25: 104
A26: =第１表!A26 -> 61 | B26: =第１表!B26 | C26: =第１表!C26 -> 6 | D26: 102.5 | E26: 96.6 | F26: 86.3 | G26: 127.4 | H26: 56.1 | I26: 113.6 | J26: 114.9 | K26: 99.4 | L26: 73 | M26: 112.3 | N26: 126.1 | O26: 84.5 | P26: 107.8 | Q26: 100.2 | R26: 67.6 | S26: 104.1
A27: =第１表!A27 -> 62 | B27: =第１表!B27 | C27: =第１表!C27 -> 7 | D27: 102.6 | E27: 91 | F27: 89 | G27: 126.5 | H27: 56.9 | I27: 113.9 | J27: 115.1 | K27: 98 | L27: 73.3 | M27: 112.4 | N27: 125.8 | O27: 85.1 | P27: 107.7 | Q27: 101.5 | R27: 65 | S27: 101.7
B31: （事業所規模３０人以上） | S31: =S4 -> 令和２年＝１００ | T31: =T4 -> 令和２年＝１００
D32: 常用雇用指数
D34: =+D7 -> 調査産業計 | E34: =+E7 -> 建設業 | F34: =+F7 -> 製造業 | G34: =+G7 -> 電気・ガス・熱供給・水道業 | H34: =+H7 -> 情報通信業 | I34: =+I7 -> 運輸業，郵便業 | J34: =+J7 -> 卸売業，小売業 | K34: =+K7 -> 金融業，保険業 | ... S34: =+S7 -> サービス業（他に分類されないもの）
A35: =第１表!A35 -> 29 | B35: =B8 -> 令和元年平均 | D35: 100.1 | E35: 109.5 | F35: 100.8 | G35: 108.8 | H35: 97.4 | I35: 100.7 | J35: 100.4 | K35: 96.8 | L35: 97.7 | M35: 98.9 | N35: 104.2 | O35: 99 | P35: 96.9 | Q35: 101.6 | R35: 100.9 | S35: 92.9
A36: =第１表!A36 -> 30 | B36: =第１表!B36 -> 2 | D36: 100 | E36: 100 | F36: 100 | G36: 100 | H36: 100 | I36: 100 | J36: 100 | K36: 100 | L36: 100 | M36: 100 | N36: 100 | O36: 100 | P36: 100 | Q36: 100 | R36: 100 | S36: 100
A37: =第１表!A37 -> 1 | B37: =第１表!B37 -> 3 | D37: 97.4 | E37: 83.6 | F37: 95.4 | G37: 83.3 | H37: 105.9 | I37: 103 | J37: 106.6 | K37: 100.1 | L37: 102 | M37: 105.8 | N37: 90.4 | O37: 92.2 | P37: 106.1 | Q37: 91.4 | R37: 93.6 | S37: 105.7
A38: =第１表!A38 -> 2 | B38: =第１表!B38 -> 4 | D38: 100.6 | E38: 80.5 | F38: 100.7 | G38: 93.9 | H38: 103.1 | I38: 108 | J38: 107.1 | K38: 104.8 | L38: 100.3 | M38: 109.2 | N38: 82 | O38: 95 | P38: 109 | Q38: 99.7 | R38: 89.5 | S38: 103.3
A39: =第１表!A39 -> 3 | B39: =第１表!B39 -> 5 | D39: 100.2 | E39: 84.7 | F39: 98.7 | G39: 92.7 | H39: 100.5 | I39: 102.4 | J39: 106.7 | K39: 104.2 | L39: 108.6 | M39: 110.9 | N39: 87.3 | O39: 95.3 | P39: 113.5 | Q39: 99.2 | R39: 89.6 | S39: 100.7
A40: =第１表!A40 -> 4 | B40: =第１表!B40 -> 6 | D40: 100.3 | E40: 86.3 | F40: 99.2 | G40: 93.3 | H40: 102.9 | I40: 101.6 | J40: 107.9 | K40: 107.8 | L40: 109.3 | M40: 117.5 | N40: 92.6 | O40: 83.6 | P40: 114.1 | Q40: 97.3 | R40: 92.3 | S40: 99.6
A41: =第１表!A41 -> 5 | B41: =第１表!B41 -> 7 | D41: 98.9 | E41: 87.1 | F41: 96.7 | G41: 94.3 | H41: 71.1 | I41: 104.4 | J41: 108.2 | K41: 104.5 | L41: 58.5 | M41: 115.1 | N41: 112.4 | O41: 96 | P41: 114 | Q41: 95.7 | R41: X | S41: 98.2
A42: =第１表!A42 -> 52 | B42: =第１表!B42 -> 令和7年 | C42: =第１表!C42 -> 7 | D42: 98.6 | E42: 87.3 | F42: 99.1 | G42: 95.8 | H42: 60.8 | I42: 97.6 | J42: 108.4 | K42: 103.6 | L42: 58.6 | M42: 115.4 | N42: 116.6 | O42: 96.3 | P42: 113.1 | Q42: 95 | R42: X | S42: 98.3
A43: =第１表!A43 -> 53 | B43: =第１表!B43 | C43: =第１表!C43 -> 8 | D43: 98.4 | E43: 87.4 | F43: 98.9 | G43: 95.7 | H43: 59.9 | I43: 97.8 | J43: 108.1 | K43: 103.2 | L43: 59.5 | M43: 115.4 | N43: 113.7 | O43: 96.6 | P43: 113.2 | Q43: 94.9 | R43: X | S43: 97.8
A44: =第１表!A44 -> 54 | B44: =第１表!B44 | C44: =第１表!C44 -> 9 | D44: 98.8 | E44: 88.7 | F44: 98.1 | G44: 96.8 | H44: 59.4 | I44: 111.3 | J44: 107.7 | K44: 102.7 | L44: 59 | M44: 114.5 | N44: 109.1 | O44: 96.3 | P44: 112.7 | Q44: 95.1 | R44: X | S44: 97.4
A45: =第１表!A45 -> 55 | B45: =第１表!B45 | C45: =第１表!C45 -> 10 | D45: 98 | E45: 88.3 | F45: 98 | G45: 97.6 | H45: 59.3 | I45: 97.8 | J45: 107.7 | K45: 104.3 | L45: 58.8 | M45: 113.6 | N45: 108.8 | O45: 97.1 | P45: 113 | Q45: 94.9 | R45: X | S45: 97.5
A46: =第１表!A46 -> 56 | C46: =第１表!C46 -> 11 | D46: 98.8 | E46: 89 | F46: 97.2 | G46: 96.5 | H46: 59 | I46: 112.4 | J46: 108.1 | K46: 105 | L46: 57.9 | M46: 112.7 | N46: 103.5 | O46: 96.8 | P46: 116.7 | Q46: 95 | R46: X | S46: 97.3
A47: =第１表!A47 -> 57 | C47: =第１表!C47 -> 12 | D47: 99.7 | E47: 87.7 | F47: 97.5 | G47: 95.3 | H47: 103 | I47: 111.1 | J47: 108.3 | K47: 104.4 | L47: 57.6 | M47: 111.9 | N47: 103.8 | O47: 95.5 | P47: 118.1 | Q47: 95.2 | R47: X | S47: 97.1
...

Sheet 第５表
B2: 第５表（１） 産業別前調査期間末、増加、減少及び本調査期間末常用労働者数並びに
B3: パートタイム労働者数及びパートタイム労働者比率（令和８年７月）
B5: (事業所規模５人以上) | J5: （単位：人・％）
E6: 前調査期間末 | F6: 増 加 | G6: 減 少 | H6: 本調査期間末
D7: 産 業 | I7: パートタイム | J7: パートタイム
E8: 常用労働者数 | F8: 常用労働者数 | G8: 常用労働者数 | H8: 常用労働者数 | I8: 労働者数 | J8: 労働者比率
B9: TL | D9: 調査産業計 | E9: 364501 | F9: 3835 | G9: 4381 | H9: 363955 | I9: 99109 | J9: 27.2
B10: D | D10: 建設業 | E10: 22316 | F10: 129 | G10: 1439 | H10: 21006 | I10: 660 | J10: 3.1
B11: E | D11: 製造業 | E11: 45191 | F11: 470 | G11: 578 | H11: 45083 | I11: 5912 | J11: 13.1
B12: F | D12: 電気・ガス・熱供給・水道業 | E12: 1322 | F12: 29 | G12: 38 | H12: 1313 | I12: 165 | J12: 12.6
B13: G | D13: 情報通信業 | E13: 2705 | F13: 57 | G13: 21 | H13: 2741 | I13: 183 | J13: 6.7
B14: H | D14: 運輸業，郵便業 | E14: 19434 | F14: 210 | G14: 155 | H14: 19489 | I14: 3005 | J14: 15.4
B15: I | D15: 卸売業，小売業 | E15: 75918 | F15: 576 | G15: 445 | H15: 76049 | I15: 34296 | J15: 45.1
B16: J | D16: 金融業，保険業 | E16: 8969 | F16: 9 | G16: 139 | H16: 8839 | I16: 444 | J16: 5
B17: K | D17: 不動産業，物品賃貸業 | E17: 3043 | F17: 14 | G17: 3 | H17: 3054 | I17: 442 | J17: 14.5
B18: L | D18: 学術研究，専門・技術サービス業 | E18: 7571 | F18: 7 | G18: 5 | H18: 7573 | I18: 470 | J18: 6.2
B19: M | D19: 宿泊業，飲食サービス業 | E19: 30130 | F19: 227 | G19: 302 | H19: 30055 | I19: 12896 | J19: 42.9
B20: N | D20: 生活関連サービス業，娯楽業 | E20: 9471 | F20: 112 | G20: 46 | H20: 9537 | I20: 4364 | J20: 45.8
... B27: E12 | D27: 木材・木製品 | E27: 2438 | F27: 2 | G27: 8 | H27: 2432 | I27: 52 | J27: 2.1
B28: E13 | D28: 家具・装備品 | E28: X | F28: X | G28: X | H28: X | I28: X | J28: X
B29: E15 | D29: 印刷・同関連業 | E29: 211 | F29: 5 | G29: 1 | H29: 215 | I29: 77 | J29: 35.8
B30: E16,17 | D30: 化学、石油・石炭 | E30: 2100 | F30: 12 | G30: 7 | H30: 2105 | I30: 16 | J30: 0.8
B31: E18 | D31: プラスチック製品 | E31: 584 | F31: 3 | G31: 8 | H31: 579 | I31: 16 | J31: 2.8
B32: E19 | D32: ゴム製品 | E32: 2050 | F32: 18 | G32: 16 | H32: 2052 | I32: 36 | J32: 1.8
B33: E21 | D33: 窯業・土石製品 | E33: 1649 | F33: 0 | G33: 0 | H33: 1649 | I33: 16 | J33: 1
B34: E24 | D34: 金属製品製造業 | E34: 1945 | F34: 9 | G34: 2 | H34: 1952 | I34: 100 | J34: 5.1
B35: E27 | D35: 業務用機械器具 | E35: 1607 | F35: 2 | G35: 4 | H35: 1605 | I35: 49 | J35: 3.1
B36: E28 | D36: 電子・デバイス | E36: 4462 | F36: 16 | G36: 50 | H36: 4428 | I36: 1072 | J36: 24.2
B37: E29 | D37: 電気機械器具 | E37: X | F37: X | G37: X | H37: X | I37: X | J37: X
B38: E31 | D38: 輸送用機械器具 | E38: 2595 | F38: 71 | G38: 18 | H38: 2648 | I38: 210 | J38: 7.9
B39: ES | D39: はん用・生産用機械器具 | E39: 3761 | F39: 88 | G39: 122 | H39: 3727 | I39: 282 | J39: 7.6
B40: R91 | D40: 職業紹介・労働者派遣業 | E40: 3905 | F40: 161 | G40: 199 | H40: 3867 | I40: 346 | J40: 8.9
B43: (事業所規模３０人以上) | J43: （単位：人・％）
E44: 前調査期間末 | F44: 増 加 | G44: 減 少 | H44: 本調査期間末
D45: 産 業 | I45: パートタイム | J45: パートタイム
E46: 常用労働者数 | F46: 常用労働者数 | G46: 常用労働者数 | H46: 常用労働者数 | I46: 労働者数 | J46: 労働者比率
B47: =+B9 -> TL | D47: =+D9 -> 調査産業計 | E47: 188538 | F47: 2671 | G47: 2264 | H47: 188945 | I47: 46782 | J47: 24.8
B48: =+B10 -> D | D48: =+D10 -> 建設業 | E48: 6566 | F48: 6 | G48: 166 | H48: 6406 | I48: 102 | J48: 1.6
B49: =+B11 -> E | D49: =+D11 -> 製造業 | E49: 36898 | F49: 341 | G49: 549 | H49: 36690 | I49: 4074 | J49: 11.1
B50: =+B12 -> F | D50: =+D12 -> 電気・ガス・熱供給・水道業 | E50: 1322 | F50: 29 | G50: 38 | H50: 1313 | I50: 165 | J50: 12.6
...

Sheet 第５表(2)
C2: 第５表（２） 産業・性別前調査期間末、増加、減少及び本調査期間末常用労働者数並びに
C3: パートタイム労働者数及びパートタイム労働者比率（令和８年７月）
B5: (事業所規模５人以上) | P5: （単位：人・％）
E6: 男 | K6: 女
E7: 前調査 | F7: 増加 | G7: 減少 | H7: 本調査 | K7: 前調査 | L7: 増加 | M7: 減少 | N7: 本調査
D8: 産 業 | E8: 期間末 | H8: 期間末 | I8: パート | J8: パート | K8: 期間末 | N8: 期間末 | O8: パート | P8: パート
E9: 常用労 | F9: 常用労 | G9: 常用労 | H9: 常用労 | I9: タイム | J9: タイム | K9: 常用労 | L9: 常用労 | M9: 常用労 | N9: 常用労 | O9: タイム | P9: タイム
E10: 働者数 | F10: 働者数 | G10: 働者数 | H10: 働者数 | I10: 労働者数 | J10: 労働者 | K10: 働者数 | L10: 働者数 | M10: 働者数 | N10: 働者数 | O10: 労働者数 | P10: 労働者
J11: 比率 | P11: 比率
B12: TL | D12: 調査産業計 | E12: 179762 | F12: 1888 | G12: 2549 | H12: 179101 | I12: 26367 | J12: 14.7 | K12: 184739 | L12: 1947 | M12: 1832 | N12: 184854 | O12: 72742 | P12: 39.4
B13: D | D13: 建設業 | E13: 19018 | F13: 6 | G13: 1301 | H13: 17723 | I13: 204 | J13: 1.2 | K13: 3298 | L13: 123 | M13: 138 | N13: 3283 | O13: 456 | P13: 13.9
B14: E | D14: 製造業 | E14: 26760 | F14: 280 | G14: 166 | H14: 26874 | I14: 1191 | J14: 4.4 | K14: 18431 | L14: 190 | M14: 412 | N14: 18209 | O14: 4721 | P14: 25.9
B15: F | D15: 電気・ガス・熱供給・水道業 | E15: 1117 | F15: 29 | G15: 38 | H15: 1108 | I15: 77 | J15: 6.9 | K15: 205 | L15: 0 | M15: 0 | N15: 205 | O15: 88 | P15: 42.9
B16: G | D16: 情報通信業 | E16: 1554 | F16: 51 | G16: 3 | H16: 1602 | I16: 37 | J16: 2.3 | K16: 1151 | L16: 6 | M16: 18 | N16: 1139 | O16: 146 | P16: 12.8
B17: H | D17: 運輸業，郵便業 | E17: 16030 | F17: 182 | G17: 130 | H17: 16082 | I17: 1741 | J17: 10.8 | K17: 3404 | L17: 28 | M17: 25 | N17: 3407 | O17: 1264 | P17: 37.1
B18: I | D18: 卸売業，小売業 | E18: 37310 | F18: 380 | G18: 200 | H18: 37490 | I18: 9557 | J18: 25.5 | K18: 38608 | L18: 196 | M18: 245 | N18: 38559 | O18: 24739 | P18: 64.2
B19: J | D19: 金融業，保険業 | E19: 4910 | F19: 9 | G19: 73 | H19: 4846 | I19: 0 | J19: 0 | K19: 4059 | L19: 0 | M19: 66 | N19: 3993 | O19: 444 | P19: 11.1
B20: K | D20: 不動産業，物品賃貸業 | E20: 2192 | F20: 7 | G20: 3 | H20: 2196 | I20: 199 | J20: 9.1 | K20: 851 | L20: 7 | M20: 0 | N20: 858 | O20: 243 | P20: 28.3
B21: L | D21: 学術研究，専門・技術サービス業 | E21: 4948 | F21: 7 | G21: 5 | H21: 4950 | I21: 215 | J21: 4.3 | K21: 2623 | L21: 0 | M21: 0 | N21: 2623 | O21: 255 | P21: 9.7
B22: M | D22: 宿泊業，飲食サービス業 | E22: 15245 | F22: 76 | G22: 120 | H22: 15201 | I22: 4074 | J22: 26.8 | K22: 14885 | L22: 151 | M22: 182 | N22: 14854 | O22: 8822 | P22: 59.4
B23: N | D23: 生活関連サービス業，娯楽業 | E23: 4872 | F23: 37 | G23: 18 | H23: 4891 | I23: 1821 | J23: 37.2 | K23: 4599 | L23: 75 | M23: 28 | N23: 4646 | O23: 2543 | P23: 54.7
... B30: E12 | D30: 木材・木製品 | E30: 1900 | F30: 1 | G30: 8 | H30: 1893 | I30: 13 | J30: 0.7 | K30: 538 | L30: 1 | M30: 0 | N30: 539 | O30: 39 | P30: 7.2
B31: E13 | D31: 家具・装備品 | E31: X | F31: X | G31: X | H31: X | I31: X | J31: X | K31: X | L31: X | M31: X | N31: X | O31: X | P31: X
B32: E15 | D32: 印刷・同関連業 | E32: 138 | F32: 2 | G32: 0 | H32: 140 | I32: 43 | J32: 30.7 | K32: 73 | L32: 3 | M32: 1 | N32: 75 | O32: 34 | P32: 45.3
B33: E16,17 | D33: 化学、石油・石炭 | E33: 1774 | F33: 1 | G33: 6 | H33: 1769 | I33: 2 | J33: 0.1 | K33: 326 | L33: 11 | M33: 1 | N33: 336 | O33: 14 | P33: 4.2
B34: E18 | D34: プラスチック製品 | E34: 394 | F34: 0 | G34: 3 | H34: 391 | I34: 0 | J34: 0 | K34: 190 | L34: 3 | M34: 5 | N34: 188 | O34: 16 | P34: 8.5
B35: E19 | D35: ゴム製品 | E35: 1755 | F35: 12 | G35: 14 | H35: 1753 | I35: 8 | J35: 0.5 | K35: 295 | L35: 6 | M35: 2 | N35: 299 | O35: 28 | P35: 9.4
B36: E21 | D36: 窯業・土石製品 | E36: 1379 | F36: 0 | G36: 0 | H36: 1379 | I36: 0 | J36: 0 | K36: 270 | L36: 0 | M36: 0 | N36: 270 | O36: 16 | P36: 5.9
B37: E24 | D37: 金属製品製造業 | E37: 1574 | F37: 7 | G37: 2 | H37: 1579 | I37: 85 | J37: 5.4 | K37: 371 | L37: 2 | M37: 0 | N37: 373 | O37: 15 | P37: 4
B38: E27 | D38: 業務用機械器具 | E38: 1016 | F38: 2 | G38: 2 | H38: 1016 | I38: 7 | J38: 0.7 | K38: 591 | L38: 0 | M38: 2 | N38: 589 | O38: 42 | P38: 7.1
B39: E28 | D39: 電子・デバイス | E39: 2414 | F39: 10 | G39: 19 | H39: 2405 | I39: 151 | J39: 6.3 | K39: 2048 | L39: 6 | M39: 31 | N39: 2023 | O39: 921 | P39: 45.5
B40: E29 | D40: 電気機械器具 | E40: X | F40: X | G40: X | H40: X | I40: X | J40: X | K40: X | L40: X | M40: X | N40: X | O40: X | P40: X
B41: E31 | D41: 輸送用機械器具 | E41: 1869 | F41: 71 | G41: 18 | H41: 1922 | I41: 38 | J41: 2 | K41: 726 | L41: 0 | M41: 0 | N41: 726 | O41: 172 | P41: 23.7
B42: ES | D42: はん用・生産用機械器具 | E42: 2788 | F42: 76 | G42: 30 | H42: 2834 | I42: 31 | J42: 1.1 | K42: 973 | L42: 12 | M42: 92 | N42: 893 | O42: 251 | P42: 28.1
B43: R91 | D43: 職業紹介・労働者派遣業 | E43: 1296 | F43: 71 | G43: 75 | H43: 1292 | I43: 67 | J43: 5.2 | K43: 2609 | L43: 90 | M43: 124 | N43: 2575 | O43: 279 | P43: 10.8
B46: (事業所規模３０人以上) | P46: （単位：人・％）
E47: 男 | K47: 女
E48: 前調査 | F48: 増加 | G48: 減少 | H48: 本調査 | K48: 前調査 | L48: 増加 | M48: 減少 | N48: 本調査
D49: 産 業 | E49: 期間末 | H49: 期間末 | I49: パート | J49: パート | K49: 期間末 | N49: 期間末 | O49: パート | P49: パート
E50: 常用労 | F50: 常用労 | G50: 常用労 | H50: 常用労 | I50: タイム | J50: タイム | K50: 常用労 | L50: 常用労 | M50: 常用労 | N50: 常用労 | O50: タイム | P50: タイム
...

Sheet 第６表
B1: 第６表 産業・性別常用労働者一人平均月間現金給与額、きまって支給する給与、所定内給与、
B2: 超過労働給与及び特別に支払われた給与（令和８年７月）
B4: (事業所規模５人以上) | O4: （単位：円）
E5: 計 | J5: 男 | M5: 女
D7: 産 業 | E7: 現金給与 総 額 | F7: きまって支給する給与 | G7: 所定内 給与 | H7: 超過 労働 給与 | I7: 特別に 支払われた給与 | J7: 現金給与 総 額 | K7: きまって支給する給与 | L7: 特別に 支払われた給与 | M7: 現金給与 総 額 | N7: きまって支給する給与 | O7: 特別に 支払われた給与
B9: TL | D9: 調査産業計 | E9: 349439 | F9: 258323 | G9: 244542 | H9: 13781 | I9: 91116 | J9: 433711 | K9: 308550 | L9: 125161 | M9: 267611 | N9: 209553 | O9: 58058
B10: D | D10: 建設業 | E10: 479073 | F10: 324754 | G10: 311416 | H10: 13338 | I10: 154319 | J10: 504033 | K10: 348268 | L10: 155765 | M10: 339723 | N10: 193477 | O10: 146246
B11: E | D11: 製造業 | E11: 382694 | F11: 266754 | G11: 244739 | H11: 22015 | I11: 115940 | J11: 456622 | K11: 311734 | L11: 144888 | M11: 274476 | N11: 200910 | O11: 73566
B12: F | D12: 電気・ガス・熱供給・水道業 | E12: 414676 | F12: 397059 | G12: 351512 | H12: 45547 | I12: 17617 | J12: 436285 | K12: 425867 | L12: 10418 | M12: 297410 | N12: 240722 | O12: 56688
B13: G | D13: 情報通信業 | E13: 375689 | F13: 327674 | G13: 301036 | H13: 26638 | I13: 48015 | J13: 434681 | K13: 382795 | L13: 51886 | M13: 294386 | N13: 251707 | O13: 42679
B14: H | D14: 運輸業，郵便業 | E14: 399937 | F14: 274507 | G14: 246857 | H14: 27650 | I14: 125430 | J14: 425051 | K14: 293042 | L14: 132009 | M14: 281533 | N14: 187117 | O14: 94416
B15: I | D15: 卸売業，小売業 | E15: 328043 | F15: 209888 | G15: 200941 | H15: 8947 | I15: 118155 | J15: 462136 | K15: 270277 | L15: 191859 | M15: 198063 | N15: 151351 | O15: 46712
B16: J | D16: 金融業，保険業 | E16: 449112 | F16: 408417 | G16: 380098 | H16: 28319 | I16: 40695 | J16: 491817 | K16: 467863 | L16: 23954 | M16: 397368 | N16: 336390 | O16: 60978
B17: K | D17: 不動産業，物品賃貸業 | E17: 350128 | F17: 318952 | G17: 263786 | H17: 55166 | I17: 31176 | J17: 394317 | K17: 359647 | L17: 34670 | M17: 236667 | N17: 214463 | O17: 22204
B18: L | D18: 学術研究，専門・技術サービス業 | E18: 476729 | F18: 332934 | G18: 317862 | H18: 15072 | I18: 143795 | J18: 533011 | K18: 364629 | L18: 168382 | M18: 370536 | N18: 273132 | O18: 97404
B19: M | D19: 宿泊業，飲食サービス業 | E19: 192221 | F19: 154992 | G19: 152079 | H19: 2913 | I19: 37229 | J19: 235277 | K19: 177425 | L19: 57852 | M19: 148140 | N19: 132024 | O19: 16116
B20: N | D20: 生活関連サービス業，娯楽業 | E20: 211719 | F20: 186150 | G20: 180843 | H20: 5307 | I20: 25569 | J20: 260930 | K20: 228246 | L20: 32684 | M20: 159751 | N20: 141695 | O20: 18056
... B27: E12 | D27: 木材・木製品 | E27: 480014 | F27: 282435 | G27: 258218 | H27: 24217 | I27: 197579 | J27: 540792 | K27: 300349 | L27: 240443 | M27: 265964 | N27: 219346 | O27: 46618
B28: E13 | D28: 家具・装備品 | E28: X | F28: X | G28: X | H28: X | I28: X | J28: X | K28: X | L28: X | M28: X | N28: X | O28: X
B29: E15 | D29: 印刷・同関連業 | E29: 267924 | F29: 254408 | G29: 231610 | H29: 22798 | I29: 13516 | J29: 311172 | K29: 297453 | L29: 13719 | M29: 186689 | N29: 173554 | O29: 13135
B30: E16,17 | D30: 化学、石油・石炭 | E30: 340912 | F30: 314857 | G30: 272201 | H30: 42656 | I30: 26055 | J30: 347569 | K30: 322181 | L30: 25388 | M30: 305287 | N30: 275662 | O30: 29625
B31: E18 | D31: プラスチック製品 | E31: 366949 | F31: 252617 | G31: 231019 | H31: 21598 | I31: 114332 | J31: 444920 | K31: 279511 | L31: 165409 | M31: 205026 | N31: 196767 | O31: 8259
B32: E19 | D32: ゴム製品 | E32: 392655 | F32: 379255 | G32: 299294 | H32: 79961 | I32: 13400 | J32: 413981 | K32: 403750 | L32: 10231 | M32: 266703 | N32: 234589 | O32: 32114
B33: E21 | D33: 窯業・土石製品 | E33: 283346 | F33: 252055 | G33: 245724 | H33: 6331 | I33: 31291 | J33: 281730 | K33: 251547 | L33: 30183 | M33: 291600 | N33: 254648 | O33: 36952
B34: E24 | D34: 金属製品製造業 | E34: 466400 | F34: 294452 | G34: 268660 | H34: 25792 | I34: 171948 | J34: 507876 | K34: 314507 | L34: 193369 | M34: 290624 | N34: 209460 | O34: 81164
B35: E27 | D35: 業務用機械器具 | E35: 558691 | F35: 294143 | G35: 276112 | H35: 18031 | I35: 264548 | J35: 642270 | K35: 343175 | L35: 299095 | M35: 414764 | N35: 209708 | O35: 205056
B36: E28 | D36: 電子・デバイス | E36: 335523 | F36: 267373 | G36: 240457 | H36: 26916 | I36: 68150 | J36: 391320 | K36: 318790 | L36: 72530 | M36: 269472 | N36: 206508 | O36: 62964
B37: E29 | D37: 電気機械器具 | E37: X | F37: X | G37: X | H37: X | I37: X | J37: X | K37: X | L37: X | M37: X | N37: X | O37: X
B38: E31 | D38: 輸送用機械器具 | E38: 587230 | F38: 270897 | G38: 261092 | H38: 9805 | I38: 316333 | J38: 688941 | K38: 297237 | L38: 391704 | M38: 321676 | N38: 202125 | O38: 119551
B39: ES | D39: はん用・生産用機械器具 | E39: 331072 | F39: 327703 | G39: 298212 | H39: 29491 | I39: 3369 | J39: 368351 | K39: 365125 | L39: 3226 | M39: 218758 | N39: 214956 | O39: 3802
B40: R91 | D40: 職業紹介・労働者派遣業 | E40: 215778 | F40: 209479 | G40: 193046 | H40: 16433 | I40: 6299 | J40: 258652 | K40: 248111 | L40: 10541 | M40: 194375 | N40: 190193 | O40: 4182
B43: (事業所規模３０人以上) | O43: （単位：円）
E44: 計 | J44: 男 | M44: 女
D46: 産 業 | E46: 現金給与 総 額 | F46: きまって支給する給与 | G46: 所定内 給与 | H46: 超過 労働 給与 | I46: 特別に 支払われた給与 | J46: 現金給与 総 額 | K46: きまって支給する給与 | L46: 特別に 支払われた給与 | M46: 現金給与 総 額 | N46: きまって支給する給与 | O46: 特別に 支払われた給与
B48: TL | D48: 調査産業計 | E48: 377337 | F48: 276172 | G48: 258195 | H48: 17977 | I48: 101165 | J48: 463176 | K48: 328182 | L48: 134994 | M48: 295981 | N48: 226877 | O48: 69104
B49: D | D49: 建設業 | E49: 491724 | F49: 320236 | G49: 301069 | H49: 19167 | I49: 171488 | J49: 497473 | K49: 327423 | L49: 170050 | M49: 409937 | N49: 217993 | O49: 191944
B50: E | D50: 製造業 | E50: 398987 | F50: 273414 | G50: 247833 | H50: 25581 | I50: 125573 | J50: 472933 | K50: 320750 | L50: 152183 | M50: 292198 | N50: 205053 | O50: 87145
B51: F | D51: 電気・ガス・熱供給・水道業 | E51: 414676 | F51: 397059 | G51: 351512 | H51: 45547 | I51: 17617 | J51: 436285 | K51: 425867 | L51: 10418 | M51: 297410 | N51: 240722 | O51: 56688
B52: G | D52: 情報通信業 | E52: 419006 | F52: 356569 | G52: 328144 | H52: 28425 | I52: 62437 | J52: 467787 | K52: 406295 | L52: 61492 | M52: 333824 | N52: 269735 | O52: 64089
B53: H | D53: 運輸業，郵便業 | E53: 451854 | F53: 273059 | G53: 240907 | H53: 32152 | I53: 178795 | J53: 494449 | K53: 298159 | L53: 196290 | M53: 296912 | N53: 181755 | O53: 115157
...

Sheet 第７表
B1: 第７表 産業・性別常用労働者一人平均月間総実労働時間数、所定内労働時間数、所定外労働時間数及び出勤日数
D2: （令和８年７月）
B4: (事業所規模５人以上) | P4: （単位：時間・日）
E5: 計 | I5: 男 | M5: 女
D6: 産 業 | E6: 出勤 | F6: 総実 | G6: 所定内 | H6: 所定外 | I6: 出勤 | J6: 総実 | K6: 所定内 | L6: 所定外 | M6: 出勤 | N6: 総実 | O6: 所定内 | P6: 所定外
F7: 労働 | G7: 労働 | H7: 労働 | J7: 労働 | K7: 労働 | L7: 労働 | N7: 労働 | O7: 労働 | P7: 労働
E8: 日数 | F8: 時間 | G8: 時間 | H8: 時間 | I8: 日数 | J8: 時間 | K8: 時間 | L8: 時間 | M8: 日数 | N8: 時間 | O8: 時間 | P8: 時間
B9: TL | D9: 調査産業計 | E9: 19.5 | F9: 145 | G9: 137.6 | H9: 7.4 | I9: 20 | J9: 157.7 | K9: 147.2 | L9: 10.5 | M9: 18.9 | N9: 132.6 | O9: 128.2 | P9: 4.4
B10: D | D10: 建設業 | E10: 21.2 | F10: 168.8 | G10: 159.5 | H10: 9.3 | I10: 21.5 | J10: 173.3 | K10: 162.5 | L10: 10.8 | M10: 19.7 | N10: 144 | O10: 142.9 | P10: 1.1
B11: E | D11: 製造業 | E11: 20.1 | F11: 161.2 | G11: 150.3 | H11: 10.9 | I11: 20.3 | J11: 166.3 | K11: 152.9 | L11: 13.4 | M11: 19.8 | N11: 153.6 | O11: 146.5 | P11: 7.1
B12: F | D12: 電気・ガス・熱供給・水道業 | E12: 19.7 | F12: 159.9 | G12: 148.8 | H12: 11.1 | I12: 19.8 | J12: 163.9 | K12: 151.3 | L12: 12.6 | M12: 19.4 | N12: 138.5 | O12: 135.4 | P12: 3.1
B13: G | D13: 情報通信業 | E13: 20.9 | F13: 154.4 | G13: 140.4 | H13: 14 | I13: 21.2 | J13: 159 | K13: 142 | L13: 17 | M13: 20.5 | N13: 148.3 | O13: 138.3 | P13: 10
B14: H | D14: 運輸業，郵便業 | E14: 20.8 | F14: 176.3 | G14: 156.9 | H14: 19.4 | I14: 21.2 | J14: 183.9 | K14: 161.5 | L14: 22.4 | M14: 19.3 | N14: 140.2 | O14: 135.2 | P14: 5
B15: I | D15: 卸売業，小売業 | E15: 18.6 | F15: 130.9 | G15: 124.8 | H15: 6.1 | I15: 19.2 | J15: 147.3 | K15: 138.1 | L15: 9.2 | M15: 18 | N15: 115.1 | O15: 112 | P15: 3.1
B16: J | D16: 金融業，保険業 | E16: 20 | F16: 158.2 | G16: 149.1 | H16: 9.1 | I16: 20.1 | J16: 161.7 | K16: 152.3 | L16: 9.4 | M16: 19.8 | N16: 153.8 | O16: 145.1 | P16: 8.7
B17: K | D17: 不動産業，物品賃貸業 | E17: 22.9 | F17: 193.9 | G17: 160.5 | H17: 33.4 | I17: 23.8 | J17: 211.3 | K17: 166.5 | L17: 44.8 | M17: 20.5 | N17: 148.9 | O17: 144.8 | P17: 4.1
B18: L | D18: 学術研究，専門・技術サービス業 | E18: 19.6 | F18: 158.4 | G18: 151.7 | H18: 6.7 | I18: 20.5 | J18: 166.6 | K18: 158.3 | L18: 8.3 | M18: 18 | N18: 143.1 | O18: 139.5 | P18: 3.6
B19: M | D19: 宿泊業，飲食サービス業 | E19: 17.6 | F19: 114.7 | G19: 112.4 | H19: 2.3 | I19: 18.2 | J19: 121.8 | K19: 120.6 | L19: 1.2 | M19: 17 | N19: 107.6 | O19: 104.1 | P19: 3.5
B20: N | D20: 生活関連サービス業，娯楽業 | E20: 19.5 | F20: 129.7 | G20: 125.7 | H20: 4 | I20: 19 | J20: 147.9 | K20: 143.2 | L20: 4.7 | M20: 20 | N20: 110.4 | O20: 107.1 | P20: 3.3
... B27: E12 | D27: 木材・木製品 | E27: 20.6 | F27: 176.2 | G27: 162.9 | H27: 13.3 | I27: 20.6 | J27: 180 | K27: 163.8 | L27: 16.2 | M27: 20.6 | N27: 162.9 | O27: 160 | P27: 2.9
B28: E13 | D28: 家具・装備品 | E28: X | F28: X | G28: X | H28: X | I28: X | J28: X | K28: X | L28: X | M28: X | N28: X | O28: X | P28: X
B29: E15 | D29: 印刷・同関連業 | E29: 18.5 | F29: 136.6 | G29: 129.3 | H29: 7.3 | I29: 18.9 | J29: 141.4 | K29: 132.8 | L29: 8.6 | M29: 17.6 | N29: 127.4 | O29: 122.6 | P29: 4.8
B30: E16,17 | D30: 化学、石油・石炭 | E30: 20.8 | F30: 166.1 | G30: 152.5 | H30: 13.6 | I30: 21 | J30: 167.6 | K30: 153.1 | L30: 14.5 | M30: 19.8 | N30: 158.5 | O30: 149.5 | P30: 9
B31: E18 | D31: プラスチック製品 | E31: 20.8 | F31: 163.5 | G31: 153.8 | H31: 9.7 | I31: 21.2 | J31: 168 | K31: 156.4 | L31: 11.6 | M31: 20 | N31: 154 | O31: 148.4 | P31: 5.6
B32: E19 | D32: ゴム製品 | E32: 21.4 | F32: 178.9 | G32: 155.9 | H32: 23 | I32: 21.6 | J32: 181.1 | K32: 156.7 | L32: 24.4 | M32: 20.2 | N32: 165.6 | O32: 150.8 | P32: 14.8
B33: E21 | D33: 窯業・土石製品 | E33: 17.7 | F33: 135.5 | G33: 132.6 | H33: 2.9 | I33: 17.5 | J33: 135.3 | K33: 132.2 | L33: 3.1 | M33: 18.3 | N33: 136.9 | O33: 134.9 | P33: 2
B34: E24 | D34: 金属製品製造業 | E34: 20.8 | F34: 178 | G34: 164.5 | H34: 13.5 | I34: 20.6 | J34: 177.7 | K34: 163.5 | L34: 14.2 | M34: 21.5 | N34: 179.9 | O34: 169.1 | P34: 10.8
B35: E27 | D35: 業務用機械器具 | E35: 19 | F35: 154.6 | G35: 149.4 | H35: 5.2 | I35: 19.2 | J35: 158 | K35: 151.8 | L35: 6.2 | M35: 18.6 | N35: 148.6 | O35: 145.2 | P35: 3.4
B36: E28 | D36: 電子・デバイス | E36: 20 | F36: 169.2 | G36: 154.8 | H36: 14.4 | I36: 19.5 | J36: 170.3 | K36: 153.6 | L36: 16.7 | M36: 20.7 | N36: 167.8 | O36: 156.2 | P36: 11.6
B37: E29 | D37: 電気機械器具 | E37: X | F37: X | G37: X | H37: X | I37: X | J37: X | K37: X | L37: X | M37: X | N37: X | O37: X | P37: X
B38: E31 | D38: 輸送用機械器具 | E38: 20.4 | F38: 165.7 | G38: 158.1 | H38: 7.6 | I38: 20.6 | J38: 169.5 | K38: 161.1 | L38: 8.4 | M38: 20 | N38: 155.6 | O38: 150.3 | P38: 5.3
B39: ES | D39: はん用・生産用機械器具 | E39: 20.5 | F39: 166 | G39: 153.7 | H39: 12.3 | I39: 20.9 | J39: 172.4 | K39: 157.9 | L39: 14.5 | M39: 19.3 | N39: 146.7 | O39: 141.2 | P39: 5.5
B40: R91 | D40: 職業紹介・労働者派遣業 | E40: 19 | F40: 150.6 | G40: 143.1 | H40: 7.5 | I40: 18.9 | J40: 160.4 | K40: 147.8 | L40: 12.6 | M40: 19 | N40: 145.7 | O40: 140.8 | P40: 4.9
B42: (事業所規模３０人以上) | P42: （単位：時間・日）
E43: 計 | I43: 男 | M43: 女
D44: 産 業 | E44: 出勤 | F44: 総実 | G44: 所定内 | H44: 所定外 | I44: 出勤 | J44: 総実 | K44: 所定内 | L44: 所定外 | M44: 出勤 | N44: 総実 | O44: 所定内 | P44: 所定外
F45: 労働 | G45: 労働 | H45: 労働 | J45: 労働 | K45: 労働 | L45: 労働 | N45: 労働 | O45: 労働 | P45: 労働
E46: 日数 | F46: 時間 | G46: 時間 | H46: 時間 | I46: 日数 | J46: 時間 | K46: 時間 | L46: 時間 | M46: 日数 | N46: 時間 | O46: 時間 | P46: 時間
B47: TL | D47: 調査産業計 | E47: 19.6 | F47: 150.7 | G47: 142.3 | H47: 8.4 | I47: 20.2 | J47: 162.3 | K47: 150.5 | L47: 11.8 | M47: 19.1 | N47: 139.7 | O47: 134.6 | P47: 5.1
B48: D | D48: 建設業 | E48: 20.9 | F48: 171.3 | G48: 162.5 | H48: 8.8 | I48: 21 | J48: 172.6 | K48: 163.5 | L48: 9.1 | M48: 19.3 | N48: 152.1 | O48: 148.4 | P48: 3.7
...

Sheet 共通系列 
A1: 【参考資料】 毎月勤労統計における共通事業所による前年同月比の参考提供について （注１）共通事業所とは、「前年同月分」及び「当月分」ともに集計対象となった調査対象事業所のことである。 平成30年から部分入替え方式の導入に伴い、常に一部の調査事業所が前年も対象となっていることから共通事業 所に限定した集計が可能となった。 （注２）共通事業所集計では、同一事業所の平均賃金などの変化をみるためのものであり、労働者数の変化の影響を除 くため、前年同月も当月の労働者数をもとに月々の平均賃金などを計算している。 （注３）共通事業所のみを用いて集計を行っているため、本系列（全ての調査対象事業所のデータを用いて作成した集 計）に比べ、サンプルサイズが小さくなることに留意が必要である。
A2: （調査産業計、事業所規模５人以上）
B3: 就業形態計 | F3: 就業形態計 | J3: 就業形態計
C4: 一般 | D4: パート | G4: 一般 | H4: パート | K4: 一般 | L4: パート
B5: ％ | C5: ％ | D5: ％ | F5: ％ | G5: ％ | H5: ％ | J5: ％ | K5: ％ | L5: ％
B6: 現金給与総額 | F6: きまって支給する給与 | J6: 所定内給与
A7: 令和7年7月 | B7: 5.1 | C7: 6.1 | D7: -1 | E7: =A7 -> 令和7年7月 | F7: 2.4 | G7: 3.1 | H7: -0.9 | I7: =E7 -> 令和7年7月 | J7: 2.9 | K7: 3.6 | L7: -0.3
A8: 8月 | B8: 4.8 | C8: 5.6 | D8: 1.8 | E8: =A8 -> 8月 | F8: 4 | G8: 4.6 | H8: 1.8 | I8: =E8 -> 8月 | J8: 4.3 | K8: 4.6 | L8: 3.8
A9: 9月 | B9: 2.7 | C9: 3 | D9: -0.2 | E9: =A9 -> 9月 | F9: 2.3 | G9: 2.6 | H9: -0.4 | I9: =E9 -> 9月 | J9: 2.7 | K9: 3 | L9: 0
A10: 10月 | B10: 2 | C10: 1.9 | D10: 0.5 | E10: =A10 -> 10月 | F10: 1.9 | G10: 1.8 | H10: 0.5 | I10: =E10 -> 10月 | J10: 1.7 | K10: 1.4 | L10: 1.3
A11: 11月 | B11: 5.1 | C11: 5 | D11: 1.2 | E11: =A11 -> 11月 | F11: 1.6 | G11: 1 | H11: 1.3 | I11: =E11 -> 11月 | J11: 1 | K11: 0.1 | L11: 2
A12: 12月 | B12: -1.9 | C12: -2.8 | D12: 3.3 | E12: =A12 -> 12月 | F12: 2.7 | G12: 2 | H12: 4.9 | I12: =E12 -> 12月 | J12: 2.4 | K12: 1.7 | L12: 5.1
A13: 令和8年1月 | B13: 5.3 | C13: 2.6 | D13: 11.7 | E13: =A13 -> 令和8年1月 | F13: 4.3 | G13: 1.4 | H13: 11.4 | I13: =E13 -> 令和8年1月 | J13: 4.9 | K13: 2 | L13: 11.7
A14: 2月 | B14: 4.7 | C14: 1.6 | D14: 14.2 | E14: =A14 -> 2月 | F14: 3.6 | G14: 0.3 | H14: 15.1 | I14: =E14 -> 2月 | J14: 4.2 | K14: 0.9 | L14: 14.9
A15: 3月 | B15: 4 | C15: 1.2 | D15: 9.8 | E15: =A15 -> 3月 | F15: 4.1 | G15: 1.3 | H15: 10.1 | I15: =E15 -> 3月 | J15: 4.8 | K15: 2.1 | L15: 10.2
A16: 4月 | B16: 4.4 | C16: 0.9 | D16: 12.2 | E16: =A16 -> 4月 | F16: 4.7 | G16: 1.4 | H16: 11.7 | I16: =E16 -> 4月 | J16: 5.2 | K16: 1.9 | L16: 11.8
A17: 5月 | B17: 4.3 | C17: 1 | D17: 11.6 | E17: =A17 -> 5月 | F17: 3.7 | G17: 0.3 | H17: 11.4 | I17: =E17 -> 5月 | J17: 3.6 | K17: 0.2 | L17: 11.5
A18: 6月 | B18: 2.8 | C18: 1.8 | D18: 5.3 | E18: =A18 -> 6月 | F18: 3.5 | G18: 2.4 | H18: 6.4 | I18: =E18 -> 6月 | J18: 3.8 | K18: 2.8 | L18: 6
A19: 7月 | B19: 7.4 | C19: 6.1 | D19: 6.5 | E19: =A19 -> 7月 | F19: 5.2 | G19: 4 | H19: 5.7 | I19: =E19 -> 7月 | J19: 5.3 | K19: 4 | L19: 5.6
B21: 就業形態計 | F21: 就業形態計 | J21: 就業形態計
C22: 一般 | D22: パート | G22: 一般 | H22: パート | K22: 一般 | L22: パート
B23: ％ | C23: ％ | D23: ％ | F23: ％ | G23: ％ | H23: ％ | J23: ％ | K23: ％ | L23: ％
B24: 総実労働時間 | F24: 所定内労働時間 | J24: 所定外労働時間
A25: =A7 -> 令和7年7月 | B25: -0.4 | C25: 0.6 | D25: -4.1 | E25: =A25 -> 令和7年7月 | F25: 0.2 | G25: 1.5 | H25: -4.1 | I25: =E25 -> 令和7年7月 | J25: -11.8 | K25: -12.6 | L25: 0
A26: =A8 -> 8月 | B26: -0.5 | C26: 0.5 | D26: -3.3 | E26: =A26 -> 8月 | F26: -0.6 | G26: 0.4 | H26: -3.3 | I26: =E26 -> 8月 | J26: 1.8 | K26: 2.4 | L26: 0
A27: =A9 -> 9月 | B27: -1.1 | C27: -0.3 | D27: -5 | E27: =A27 -> 9月 | F27: -1 | G27: 0.1 | H27: -5 | I27: =E27 -> 9月 | J27: -3.4 | K27: -5.6 | L27: 0
A28: =A10 -> 10月 | B28: -2.7 | C28: -1.8 | D28: -6.9 | E28: =A28 -> 10月 | F28: -3.3 | G28: -2.5 | H28: -7.1 | I28: =E28 -> 10月 | J28: 11.9 | K28: 11.5 | L28: 25
A29: =A11 -> 11月 | B29: -3.8 | C29: -4.3 | D29: -3.7 | E29: =A29 -> 11月 | F29: -4 | G29: -4.6 | H29: -3.7 | I29: =E29 -> 11月 | J29: 1.6 | K29: 0 | L29: 0
A30: =A12 -> 12月 | B30: -1.2 | C30: -1.7 | D30: 0 | E30: =A30 -> 12月 | F30: -1.6 | G30: -2.2 | H30: -0.1 | I30: =E30 -> 12月 | J30: 8.1 | K30: 6.5 | L30: 20
A31: =A13 -> 令和8年1月 | B31: 0.6 | C31: -1.5 | D31: 4.7 | E31: =A31 -> 令和8年1月 | F31: 1.1 | G31: -1.1 | H31: 5.9 | I31: =E31 -> 令和8年1月 | J31: -7.9 | K31: -6.9 | L31: -38.1
A32: =A14 -> 2月 | B32: 0.1 | C32: -2.8 | D32: 8 | E32: =A32 -> 2月 | F32: 0.5 | G32: -2.2 | H32: 8 | I32: =E32 -> 2月 | J32: -8.2 | K32: -11.5 | L32: 9.1
A33: =A15 -> 3月 | B33: 1.2 | C33: -1.1 | D33: 5 | E33: =A33 -> 3月 | F33: 2.2 | G33: 0.2 | H33: 5.1 | I33: =E33 -> 3月 | J33: -15.8 | K33: -18.9 | L33: 0
A34: =A16 -> 4月 | B34: -0.8 | C34: -3.2 | D34: 3.3 | E34: =A34 -> 4月 | F34: -0.5 | G34: -2.9 | H34: 3.6 | I34: =E34 -> 4月 | J34: -6 | K34: -7.6 | L34: -15.4
A35: =A17 -> 5月 | B35: -1.9 | C35: -4.7 | D35: 3.8 | E35: =A35 -> 5月 | F35: -2.1 | G35: -5 | H35: 3.9 | I35: =E35 -> 5月 | J35: 3.2 | K35: 0 | L35: 0
A36: =A18 -> 6月 | B36: 1.4 | C36: 1.1 | D36: 0.6 | E36: =A36 -> 6月 | F36: 1.2 | G36: 0.9 | H36: 1 | I36: =E36 -> 6月 | J36: 4.8 | K36: 4.7 | L36: -25
A37: =A19 -> 7月 | B37: -1.2 | C37: -2.5 | D37: 1.2 | E37: =A37 -> 7月 | F37: -0.9 | G37: -2.1 | H37: 1.4 | I37: =E37 -> 7月 | J37: -7.2 | K37: -9.3 | L37: -2.2
